BEGIN:VCALENDAR
CALSCALE:GREGORIAN
METHOD:PUBLISH
PRODID:-//github.com/ical-org/ical.net//NONSGML ical.net 4.0//EN
VERSION:2.0
X-WR-TIMEZONE:US/Eastern
BEGIN:VEVENT
CATEGORIES:Boards & Commissions
CATEGORIES:Court Services
CATEGORIES:End Bullying Campaign
DESCRIPTION:To verify info please see https://apps.alexandriava.gov/Calend
 ar/Detail.aspx?si=38502\n\nDue to the COVID-19 Pandemic emergency\, the W
 ednesday\, January 19\, 2022 meeting of the Alexandria Gang Prevention Co
 mmunity Task Force is being held electronically pursuant to the ordinance
  adopted by the City Council on June 20\, 2020. All of the members of the
  Board and staff are participating from remote locations through a Zoom m
 eeting. This meeting is being held electronically\, unless a determinatio
 n is made that it is safe enough to be held in person. The meeting can be
  accessed by the public through the Zoom link below.  \n \n\n \nThe purpo
 se of the Task Force is to receive briefings on the status of gang suppre
 ssion\, prevention and intervention programs and activities in the City\;
  assist in informing and educating the Alexandria community about the gan
 g suppression\, prevention and intervention programs and activities\; ass
 ist in identifying programs and activities that will address specific gan
 g-related problems or issues in the City\; assist in identifying opportun
 ities to obtain funding for programs and activities that will address suc
 h gang-related problems or issues\; and\, assist in identifying state or 
 local laws that should be enacted or amended to enable the City\, and pos
 sibly other local governments\, to better address problems and issues ari
 sing from or related to gangs.\n\nLocation:  Virtual Only\nContact Person
 : Percy White\nContact Phone: 703.746.4144\nContact Email: percy.white@al
 exandriava.gov\nAudience: Anyone may attend\nTags: Boards & Commissions\,
  Court Services\, End Bullying Campaign\n\nWeb resources:\n\nRegistration
  Link for Gang Prevention Comm. Task Force Meeting\nhttps://gcc02.safelin
 ks.protection.outlook.com/?url=https%3A%2F%2Fzoom.us%2Fj%2F97398092806&da
 ta=04%7C01%7CElaine.Scott%40alexandriava.gov%7C3d05a75abc074dc7fa2d08d9c4
 00ed20%7Cfeaa9b3143754aeeadccc76ad32a890b%7C0%7C0%7C637756330535875486%7C
 Unknown%7CTWFpbGZsb3d8eyJWIjoiMC4wLjAwMDAiLCJQIjoiV2luMzIiLCJBTiI6Ik1haWw
 iLCJXVCI6Mn0%3D%7C3000&sdata=AhciPSZwY9QbTKvKx5h23aAFJVPxhOz%2FaBZmbaOytJ
 8%3D&reserved=0\nMeeting ID: 973 9809 2806\n\nPasscode: 419714\n\nOne tap
  mobile +13017158592\,\,97398092806#\,\,\,\,*419714# \nAfter registering\
 , you will receive a confirmation email containing information about join
 ing the webinar.\n\n\nGang and Youth Violence Intervention and Prevention
 \nhttps://www.alexandriava.gov/GangPrevention\n
DTEND:20220120T010000Z
DTSTAMP:20211220T223245Z
DTSTART:20220119T230000Z
LOCATION: Virtual Only
SEQUENCE:5
STATUS:CONFIRMED
SUMMARY:VIRTUAL: Gang Prevention Comm. Task Force Meeting
TRANSP:OPAQUE
UID:6d5db880-140e-4bbf-a13c-3a284f62cb77
URL:https://gcc02.safelinks.protection.outlook.com/?url=https%3A%2F%2Fzoom
 .us%2Fj%2F97398092806&data=04%7C01%7CElaine.Scott%40alexandriava.gov%7C3d
 05a75abc074dc7fa2d08d9c400ed20%7Cfeaa9b3143754aeeadccc76ad32a890b%7C0%7C0
 %7C637756330535875486%7CUnknown%7CTWFpbGZsb3d8eyJWIjoiMC4wLjAwMDAiLCJQIjo
 iV2luMzIiLCJBTiI6Ik1haWwiLCJXVCI6Mn0%3D%7C3000&sdata=AhciPSZwY9QbTKvKx5h2
 3aAFJVPxhOz%2FaBZmbaOytJ8%3D&reserved=0
X-ALT-DESC;FMTTYPE=text/html:To verify info please see <a href="https://ap
 ps.alexandriava.gov/Calendar/Detail.aspx?si=38502">https://apps.alexandri
 ava.gov/Calendar/Detail.aspx?si=38502</a><br />\n<br />Due to the COVID-1
 9 Pandemic emergency\, the Wednesday\, January 19\, 2022 meeting of the A
 lexandria Gang Prevention Community Task Force is being held electronical
 ly pursuant to the ordinance adopted by the City Council on June 20\, 202
 0. All of the members of the Board and staff are participating from remot
 e locations through a Zoom meeting. This meeting is being held electronic
 ally\, unless a determination is made that it is safe enough to be held i
 n person. The meeting can be accessed by the public through the Zoom link
  below.  \n<br /> \n<br />\n<br /> \n<br />The purpose of the Task Force 
 is to receive briefings on the status of gang suppression\, prevention an
 d intervention programs and activities in the City\; assist in informing 
 and educating the Alexandria community about the gang suppression\, preve
 ntion and intervention programs and activities\; assist in identifying pr
 ograms and activities that will address specific gang-related problems or
  issues in the City\; assist in identifying opportunities to obtain fundi
 ng for programs and activities that will address such gang-related proble
 ms or issues\; and\, assist in identifying state or local laws that shoul
 d be enacted or amended to enable the City\, and possibly other local gov
 ernments\, to better address problems and issues arising from or related 
 to gangs.\n<br />\n<br />Location:  Virtual Only\n<br />Contact Person: P
 ercy White\n<br />Contact Phone: 703.746.4144\n<br />Contact Email: percy
 .white@alexandriava.gov\n<br />Audience: Anyone may attend\n<br />Tags: B
 oards &amp\; Commissions\, Court Services\, End Bullying Campaign<br>\n<a
  href="https://gcc02.safelinks.protection.outlook.com/?url=https%3A%2F%2F
 zoom.us%2Fj%2F97398092806&amp\;data=04%7C01%7CElaine.Scott%40alexandriava
 .gov%7C3d05a75abc074dc7fa2d08d9c400ed20%7Cfeaa9b3143754aeeadccc76ad32a890
 b%7C0%7C0%7C637756330535875486%7CUnknown%7CTWFpbGZsb3d8eyJWIjoiMC4wLjAwMD
 AiLCJQIjoiV2luMzIiLCJBTiI6Ik1haWwiLCJXVCI6Mn0%3D%7C3000&amp\;sdata=AhciPS
 ZwY9QbTKvKx5h23aAFJVPxhOz%2FaBZmbaOytJ8%3D&amp\;reserved=0">Registration 
 Link for Gang Prevention Comm. Task Force Meeting</a><br>\nMeeting ID: 97
 3 9809 2806\n\nPasscode: 419714\n\nOne tap mobile +13017158592\,\,9739809
 2806#\,\,\,\,*419714# \nAfter registering\, you will receive a confirmati
 on email containing information about joining the webinar.\n<br>\n<a href
 ="https://www.alexandriava.gov/GangPrevention">Gang and Youth Violence In
 tervention and Prevention</a><br>\n
X-COA-DTSTAMP:20211220T223245Z
END:VEVENT
END:VCALENDAR
