BEGIN:VCALENDAR
CALSCALE:GREGORIAN
METHOD:PUBLISH
PRODID:-//github.com/ical-org/ical.net//NONSGML ical.net 4.0//EN
VERSION:2.0
X-WR-TIMEZONE:US/Eastern
BEGIN:VEVENT
CATEGORIES:Boards & Commissions
CATEGORIES:Community Outreach
CATEGORIES:Women
DESCRIPTION:To verify info please see https://apps.alexandriava.gov/Calend
 ar/Detail.aspx?si=38084\n\nDue to the COVID-19 Pandemic emergency\, the T
 uesday\, 11/9/2021 meeting of the ALEXANDRIA COMMISSION FOR WOMEN MEETING
   is being held electronically pursuant to Virginia Code Section 2.2-3708
 .2(A)(3)\, the Continuity of Government ordinance adopted by the City Cou
 ncil on June 20\, 2020 or Section 4-0.01(g) in HB29 and HB30\, enacted by
  the 2020 Virginia General Assembly (Virginia Acts of Assembly Ch. 1283 a
 nd 1289)\, to undertake essential business. All of the members of the Boa
 rd and staff are participating from remote locations through a Zoom meeti
 ng. This meeting is being held electronically\, unless a determination is
  made that it is safe enough to be held in person. Electronic access will
  be provided in either event. The meeting can be accessed by the public t
 hrough: \nRegister in advance for this webinar:\nhttps://zoom.us/j/973500
 06073?pwd=MmM0YmJZUGtsdndKSm9mYzJPNWR1dz09 Meeting ID: 973 5000 6073\nPas
 scode: 223594\n\n\n\nLocation:  Virtual Only\nContact Person: Ann Harbour
 \nContact Email: annieh28@gmail.com\nAudience: Anyone may attend\nTags: B
 oards & Commissions\, Community Outreach\, Women
DTEND:20211110T020000Z
DTSTAMP:20211001T214107Z
DTSTART:20211110T000001Z
LOCATION: Virtual Only
SEQUENCE:8
STATUS:CONFIRMED
SUMMARY:VIRTUAL: Commission for Women Meeting
TRANSP:OPAQUE
UID:ae9af274-7f80-4a6d-b0d7-d5f924b37071
X-ALT-DESC;FMTTYPE=text/html:To verify info please see <a href="https://ap
 ps.alexandriava.gov/Calendar/Detail.aspx?si=38084">https://apps.alexandri
 ava.gov/Calendar/Detail.aspx?si=38084</a><br />\n<br />Due to the COVID-1
 9 Pandemic emergency\, the Tuesday\, 11/9/2021 meeting of the ALEXANDRIA 
 COMMISSION FOR WOMEN MEETING  is being held electronically pursuant to Vi
 rginia Code Section 2.2-3708.2(A)(3)\, the Continuity of Government ordin
 ance adopted by the City Council on June 20\, 2020 or Section 4-0.01(g) i
 n HB29 and HB30\, enacted by the 2020 Virginia General Assembly (Virginia
  Acts of Assembly Ch. 1283 and 1289)\, to undertake essential business. A
 ll of the members of the Board and staff are participating from remote lo
 cations through a Zoom meeting. This meeting is being held electronically
 \, unless a determination is made that it is safe enough to be held in pe
 rson. Electronic access will be provided in either event. The meeting can
  be accessed by the public through: \n<br />Register in advance for this 
 webinar:\n<br />https://zoom.us/j/97350006073?pwd=MmM0YmJZUGtsdndKSm9mYzJ
 PNWR1dz09 Meeting ID: 973 5000 6073\n<br />Passcode: 223594\n<br />\n<br 
 />\n<br />\n<br />Location:  Virtual Only\n<br />Contact Person: Ann Harb
 our\n<br />Contact Email: annieh28@gmail.com\n<br />Audience: Anyone may 
 attend\n<br />Tags: Boards &amp\; Commissions\, Community Outreach\, Wome
 n
X-COA-DTSTAMP:20211001T214107Z
END:VEVENT
END:VCALENDAR
