BEGIN:VCALENDAR
CALSCALE:GREGORIAN
METHOD:PUBLISH
PRODID:-//github.com/ical-org/ical.net//NONSGML ical.net 4.0//EN
VERSION:2.0
X-WR-TIMEZONE:US/Eastern
BEGIN:VEVENT
CATEGORIES:COVID-19 Vaccination Clinic
DESCRIPTION:To verify info please see https://apps.alexandriava.gov/Calend
 ar/Detail.aspx?si=38019\n\nHours: 12:00pm-6:00pm -- Provider: Alexandria 
 Health Department -- Location: US Patent & Trademark Office (550 Elizabet
 h Lane\, Alexandria VA 22314) -- Free parking onsite for clinic recipient
 s\n\nLocation: USPTO\, 550 Elizabeth Lane\, Alexandria VA 22314\nContact 
 Phone: 703.746.4988\nAudience: Anyone may attend\nTags: COVID-19 Vaccinat
 ion Clinic\n\nWeb resources:\n\nSchedule Now\nhttps://vase.vdh.virginia.g
 ov/vdhapps/f?p=535:205:::NO:205:P205_CLINIC_DETAILS_ID:272595489732338468
 772263465241595793844\n
DTEND:20211027T220000Z
DTSTAMP:20211026T160119Z
DTSTART:20211027T160000Z
GEO:38.801173;-77.063867
LOCATION:USPTO\, 550 Elizabeth Lane\, Alexandria VA 22314
SEQUENCE:8
STATUS:CONFIRMED
SUMMARY:Pfizer Vaccine (All Doses\, Ages 12+)
TRANSP:OPAQUE
UID:30dca877-afb2-431f-a5c3-93ed6235e79c
URL:https://vase.vdh.virginia.gov/vdhapps/f?p=535:205:::NO:205:P205_CLINIC
 _DETAILS_ID:272595489732338468772263465241595793844
X-ALT-DESC;FMTTYPE=text/html:To verify info please see <a href="https://ap
 ps.alexandriava.gov/Calendar/Detail.aspx?si=38019">https://apps.alexandri
 ava.gov/Calendar/Detail.aspx?si=38019</a><br />\n<br />Hours: 12:00pm-6:0
 0pm -- Provider: Alexandria Health Department -- Location: US Patent &amp
 \; Trademark Office (550 Elizabeth Lane\, Alexandria VA 22314) -- Free pa
 rking onsite for clinic recipients\n<br />\n<br />Location: USPTO\, 550 E
 lizabeth Lane\, Alexandria VA 22314\n<br />Contact Phone: 703.746.4988\n<
 br />Audience: Anyone may attend\n<br />Tags: COVID-19 Vaccination Clinic
 <br>\n<a href="https://vase.vdh.virginia.gov/vdhapps/f?p=535:205:::NO:205
 :P205_CLINIC_DETAILS_ID:272595489732338468772263465241595793844">Schedule
  Now</a><br>\n
X-COA-DTSTAMP:20211026T160119Z
END:VEVENT
END:VCALENDAR
