BEGIN:VCALENDAR
CALSCALE:GREGORIAN
METHOD:PUBLISH
PRODID:-//github.com/ical-org/ical.net//NONSGML ical.net 4.0//EN
VERSION:2.0
X-WR-TIMEZONE:US/Eastern
BEGIN:VEVENT
CATEGORIES:Community Event
CATEGORIES:Del Ray
CATEGORIES:Family
CATEGORIES:Food
CATEGORIES:Recreation
DESCRIPTION:To verify info please see https://apps.alexandriava.gov/Calend
 ar/Detail.aspx?si=3664\n\nThe Del Ray Music Festival is a celebration of 
 local music\, food and community.\n\nLocation: Mt. Vernon Rec Center\, 27
 01 Commonwealth Ave.\nContact Person: Kate Moran \nContact Phone: 703.346
 .1468\nContact Email: info@DelRayMusicFestival.org\nFees: Free\nAudience:
  Anyone may attend\nTags: Community Event\, Del Ray\, Family\, Food\, Rec
 reation\n\nWeb resources:\n\nhttp://www.delraymusicfestival.com/\n
DTEND:20120624T020000Z
DTSTAMP:20130619T220000Z
DTSTART:20120623T140000Z
GEO:38.828709;-77.060096
LOCATION:Mt. Vernon Rec Center\, 2701 Commonwealth Ave.
SEQUENCE:7
STATUS:CONFIRMED
SUMMARY:Del Ray Music Festival
TRANSP:TRANSPARENT
UID:9507d3b7-f2ce-4485-a23e-ca7e4bc388cf
URL:http://www.delraymusicfestival.com/
X-ALT-DESC;FMTTYPE=text/html:To verify info please see <a href="https://ap
 ps.alexandriava.gov/Calendar/Detail.aspx?si=3664">https://apps.alexandria
 va.gov/Calendar/Detail.aspx?si=3664</a><br />\n<br />The Del Ray Music Fe
 stival is a celebration of local music\, food and community.\n<br />\n<br
  />Location: Mt. Vernon Rec Center\, 2701 Commonwealth Ave.\n<br />Contac
 t Person: Kate Moran \n<br />Contact Phone: 703.346.1468\n<br />Contact E
 mail: info@DelRayMusicFestival.org\n<br />Fees: Free\n<br />Audience: Any
 one may attend\n<br />Tags: Community Event\, Del Ray\, Family\, Food\, R
 ecreation<br>\n<a href="http://www.delraymusicfestival.com/">http://www.d
 elraymusicfestival.com/</a><br>\n
X-COA-DTSTAMP:20120605T214450Z
END:VEVENT
END:VCALENDAR
