BEGIN:VCALENDAR
CALSCALE:GREGORIAN
METHOD:PUBLISH
PRODID:-//github.com/ical-org/ical.net//NONSGML ical.net 4.0//EN
VERSION:2.0
X-WR-TIMEZONE:US/Eastern
BEGIN:VEVENT
CATEGORIES:Community Event
CATEGORIES:Family
CATEGORIES:Food
CATEGORIES:Old Town
CATEGORIES:Parks
CATEGORIES:Recreation
CATEGORIES:Waterfront
DESCRIPTION:To verify info please see https://apps.alexandriava.gov/Calend
 ar/Detail.aspx?si=3526\n\nThe music\, food\, and culture of Ireland will 
 be featured as the City of Alexandria hosts the annual Irish Festival. Ad
 mission is free and the festival will be held rain or shine. \n\nLocation
 : Waterfront Park\, 1 Prince St.\nContact Person: Pat Troy \nContact Phon
 e: 703.237.2199\nContact Email: irishkinght1@verizon.net\nFees: Free\nAud
 ience: Anyone may attend\nTags: Community Event\, Family\, Food\, Old Tow
 n\, Parks\, Recreation\, Waterfront\n\nWeb resources:\n\nhttp://www.Bally
 shaners.org\n
DTEND:20120811T230000Z
DTSTAMP:20130619T220000Z
DTSTART:20120811T160000Z
GEO:38.803380;-77.039641
LOCATION:Waterfront Park\, 1 Prince St.
SEQUENCE:7
STATUS:CONFIRMED
SUMMARY:Irish Festival
TRANSP:TRANSPARENT
UID:ddd51b1f-6e42-4f16-81c4-2d03fb613530
URL:http://www.Ballyshaners.org
X-ALT-DESC;FMTTYPE=text/html:To verify info please see <a href="https://ap
 ps.alexandriava.gov/Calendar/Detail.aspx?si=3526">https://apps.alexandria
 va.gov/Calendar/Detail.aspx?si=3526</a><br />\n<br />The music\, food\, a
 nd culture of Ireland will be featured as the City of Alexandria hosts th
 e annual Irish Festival. Admission is free and the festival will be held 
 rain or shine. \n<br />\n<br />Location: Waterfront Park\, 1 Prince St.\n
 <br />Contact Person: Pat Troy \n<br />Contact Phone: 703.237.2199\n<br /
 >Contact Email: irishkinght1@verizon.net\n<br />Fees: Free\n<br />Audienc
 e: Anyone may attend\n<br />Tags: Community Event\, Family\, Food\, Old T
 own\, Parks\, Recreation\, Waterfront<br>\n<a href="http://www.Ballyshane
 rs.org">http://www.Ballyshaners.org</a><br>\n
X-COA-DTSTAMP:20120516T192600Z
END:VEVENT
END:VCALENDAR
