BEGIN:VCALENDAR
CALSCALE:GREGORIAN
METHOD:PUBLISH
PRODID:-//github.com/ical-org/ical.net//NONSGML ical.net 4.0//EN
VERSION:2.0
X-WR-TIMEZONE:US/Eastern
BEGIN:VEVENT
CATEGORIES:Arts
CATEGORIES:City Hall
CATEGORIES:Community Event
CATEGORIES:Family
CATEGORIES:Food
CATEGORIES:King Street
CATEGORIES:Old Town
CATEGORIES:Recreation
DESCRIPTION:To verify info please see https://apps.alexandriava.gov/Calend
 ar/Detail.aspx?si=3523\n\nArt show featuring artist vendors\, music/singi
 ng artists\, art demonstrations\, food/beverage vendors and interactive a
 rt activities for children. \n\nLocation: Market Square\, 301 King St.\nC
 ontact Person: Susan Townsend\nContact Phone: 703.836.2176\nContact Email
 : stownsend@volunteeralexandria.org\nAudience: Anyone may attend\nTags: A
 rts\, City Hall\, Community Event\, Family\, Food\, King Street\, Old Tow
 n\, Recreation
DTEND:20120616T220000Z
DTSTAMP:20130619T220000Z
DTSTART:20120616T170000Z
GEO:38.804935;-77.042978
LOCATION:Market Square\, 301 King St.
SEQUENCE:8
STATUS:CONFIRMED
SUMMARY:Old Town Arts and Crafts Festival
TRANSP:TRANSPARENT
UID:e1e4ba4b-3a9a-450d-bf21-45979123352d
X-ALT-DESC;FMTTYPE=text/html:To verify info please see <a href="https://ap
 ps.alexandriava.gov/Calendar/Detail.aspx?si=3523">https://apps.alexandria
 va.gov/Calendar/Detail.aspx?si=3523</a><br />\n<br />Art show featuring a
 rtist vendors\, music/singing artists\, art demonstrations\, food/beverag
 e vendors and interactive art activities for children. \n<br />\n<br />Lo
 cation: Market Square\, 301 King St.\n<br />Contact Person: Susan Townsen
 d\n<br />Contact Phone: 703.836.2176\n<br />Contact Email: stownsend@volu
 nteeralexandria.org\n<br />Audience: Anyone may attend\n<br />Tags: Arts\
 , City Hall\, Community Event\, Family\, Food\, King Street\, Old Town\, 
 Recreation
X-COA-DTSTAMP:20120529T154902Z
END:VEVENT
END:VCALENDAR
