BEGIN:VCALENDAR
CALSCALE:GREGORIAN
METHOD:PUBLISH
PRODID:-//github.com/ical-org/ical.net//NONSGML ical.net 4.0//EN
VERSION:2.0
X-WR-TIMEZONE:US/Eastern
BEGIN:VEVENT
CATEGORIES:Boards & Commissions
CATEGORIES:Library
DESCRIPTION:To verify info please see https://apps.alexandriava.gov/Calend
 ar/Detail.aspx?si=34976\n\nDue to the COVID-19 pandemic emergency\, the A
 pril 19\, 2021 Alexandria Library Board meeting is being held electronica
 lly pursuant to Virginia Code Section 2.2-3708.2(A)(3)\, the Continuity o
 f Government ordinance adopted by the City Council on June 20\, 2020 and/
 or Sections 4-0.00(g) in HB29 and HB30 to undertake essential business. A
 ll members of the Board and staff are participating from remote locations
  through a video conference call on Zoom. Meeting link is below and regis
 tration is required to watch the live webcast.\n\nThe meeting will be web
 cast live and a recording will be available a few days after the meeting.
 \n\nPublic comment will be received at this meeting.\n \nAll persons wish
 ing to speak before the Library Board must complete a Speaker's Form. If 
 you have a prepared statement\, you may email it to the Library Board at 
 libraryboard@alexlibraryva.org. Speakers are encouraged to submit their w
 ritten comments to the Library Board.\n \nThe meeting agenda and Speaker'
 s Form may be viewed at the following link: https://alexlibraryva.org/ima
 ges/pdfs/alexandria/Library%20Board%20Minutes/April_19_2021_Library_Board
 _Agenda.pdf or at: https://alexlibraryva.org/about-us\n\nIndividuals with
  disabilities who require assistance or special arrangements to participa
 te in the Alexandria Library Board meeting may call the Library Administr
 ation Office at 703-746-1701 or email jgregorio@alexlibraryva.org. We req
 uest that you provide a 48-hour notice so that the proper arrangements ma
 y be made.\n\n\nLocation:  Virtual Only\nAudience: Anyone may attend\nTag
 s: Boards & Commissions\, Library\n\nWeb resources:\n\nLink for Alexandri
 a Library Board Speaker's Form\nhttps://docs.google.com/forms/d/e/1FAIpQL
 SdjS-d2dAiUs1N_-C_LeFpOulzv0zBrgiNfsxmJF3sWI3n-zg/viewform\n(a) All speak
 er request forms for the public discussion period must be submitted by 5 
 pm of the day prior to the meeting.\n\n(b) No speaker will be allowed mor
 e than three minutes\; except that one officer or other designated member
  speaking on behalf of each Library Friends group desiring to be heard sh
 all be allowed five minutes. In order to obtain five minutes\, you must i
 dentify yourself as a designated speaker\, and identify the Friends group
  you represent\, at the start of your presentation.\n
DTEND:20210419T220000Z
DTSTAMP:20210414T205737Z
DTSTART:20210419T200000Z
LOCATION: Virtual Only
SEQUENCE:7
STATUS:CONFIRMED
SUMMARY:VIRTUAL: Alexandria Library Board Meeting
TRANSP:TRANSPARENT
UID:fe45ef24-a0a5-433d-86c0-c6f19d26868d
URL:https://docs.google.com/forms/d/e/1FAIpQLSdjS-d2dAiUs1N_-C_LeFpOulzv0z
 BrgiNfsxmJF3sWI3n-zg/viewform
X-ALT-DESC;FMTTYPE=text/html:To verify info please see <a href="https://ap
 ps.alexandriava.gov/Calendar/Detail.aspx?si=34976">https://apps.alexandri
 ava.gov/Calendar/Detail.aspx?si=34976</a><br />\n<br />Due to the COVID-1
 9 pandemic emergency\, the April 19\, 2021 Alexandria Library Board meeti
 ng is being held electronically pursuant to Virginia Code Section 2.2-370
 8.2(A)(3)\, the Continuity of Government ordinance adopted by the City Co
 uncil on June 20\, 2020 and/or Sections 4-0.00(g) in HB29 and HB30 to und
 ertake essential business. All members of the Board and staff are partici
 pating from remote locations through a video conference call on Zoom. Mee
 ting link is below and registration is required to watch the live webcast
 .\n<br />\n<br />The meeting will be webcast live and a recording will be
  available a few days after the meeting.\n<br />\n<br />Public comment wi
 ll be received at this meeting.\n<br /> \n<br />All persons wishing to sp
 eak before the Library Board must complete a Speaker?s Form. If you have 
 a prepared statement\, you may email it to the Library Board at librarybo
 ard@alexlibraryva.org. Speakers are encouraged to submit their written co
 mments to the Library Board.\n<br /> \n<br />The meeting agenda and Speak
 er?s Form may be viewed at the following link: https://alexlibraryva.org/
 images/pdfs/alexandria/Library%20Board%20Minutes/April_19_2021_Library_Bo
 ard_Agenda.pdf or at: https://alexlibraryva.org/about-us\n<br />\n<br />I
 ndividuals with disabilities who require assistance or special arrangemen
 ts to participate in the Alexandria Library Board meeting may call the Li
 brary Administration Office at 703-746-1701 or email jgregorio@alexlibrar
 yva.org. We request that you provide a 48-hour notice so that the proper 
 arrangements may be made.\n<br />\n<br />\n<br />Location:  Virtual Only\
 n<br />Audience: Anyone may attend\n<br />Tags: Boards &amp\; Commissions
 \, Library<br>\n<a href="https://docs.google.com/forms/d/e/1FAIpQLSdjS-d2
 dAiUs1N_-C_LeFpOulzv0zBrgiNfsxmJF3sWI3n-zg/viewform">Link for Alexandria 
 Library Board Speaker&#39\;s Form</a><br>\n(a) All speaker request forms 
 for the public discussion period must be submitted by 5 pm of the day pri
 or to the meeting.\n\n(b) No speaker will be allowed more than three minu
 tes\; except that one officer or other designated member speaking on beha
 lf of each Library Friends group desiring to be heard shall be allowed fi
 ve minutes. In order to obtain five minutes\, you must identify yourself 
 as a designated speaker\, and identify the Friends group you represent\, 
 at the start of your presentation.<br>\n
X-COA-DTSTAMP:20210414T205737Z
END:VEVENT
END:VCALENDAR
