BEGIN:VCALENDAR
CALSCALE:GREGORIAN
METHOD:PUBLISH
PRODID:-//github.com/ical-org/ical.net//NONSGML ical.net 4.0//EN
VERSION:2.0
X-WR-TIMEZONE:US/Eastern
BEGIN:VEVENT
CATEGORIES:Family
CATEGORIES:King St. Metro
CATEGORIES:King Street
CATEGORIES:Museums
CATEGORIES:Old & Historic Alexandria
CATEGORIES:Old Town
CATEGORIES:Parents
CATEGORIES:Summer Fun for Kids
CATEGORIES:Tour
DESCRIPTION:To verify info please see https://apps.alexandriava.gov/Calend
 ar/Detail.aspx?si=3481\n\nFriendship Firehouse is offering special tours 
 for fathers on Father's Day. On this important day\, Friendship Firehouse
  will make every father an honorary chief of the Friendship Fire Company 
 Bucket Brigade. Every dad\, with his children\, will receive a special ce
 rtificate and his kids will get firehats! Free for dads and granddads! \n
 \nLocation: Friendship Firehouse Museum\, 107 S. Alfred St.\nContact Phon
 e: 703.746.3891 or 703.746.4994\nFees: Free for fathers & grandfathers!\n
 Audience: Anyone may attend\nTags: Family\, King St. Metro\, King Street\
 , Museums\, Old & Historic Alexandria\, Old Town\, Parents\, Summer Fun f
 or Kids\, Tour
DTEND:20120617T200000Z
DTSTAMP:20130619T220000Z
DTSTART:20120617T170000Z
GEO:38.804940;-77.049408
LOCATION:Friendship Firehouse Museum\, 107 S. Alfred St.
SEQUENCE:5
STATUS:CONFIRMED
SUMMARY:Father's Day Open House
TRANSP:OPAQUE
UID:ad06f65c-b33c-4886-8cb2-1629d1379c5c
X-ALT-DESC;FMTTYPE=text/html:To verify info please see <a href="https://ap
 ps.alexandriava.gov/Calendar/Detail.aspx?si=3481">https://apps.alexandria
 va.gov/Calendar/Detail.aspx?si=3481</a><br />\n<br />Friendship Firehouse
  is offering special tours for fathers on Father?s Day. On this important
  day\, Friendship Firehouse will make every father an honorary chief of t
 he Friendship Fire Company Bucket Brigade. Every dad\, with his children\
 , will receive a special certificate and his kids will get firehats! Free
  for dads and granddads! \n<br />\n<br />Location: Friendship Firehouse M
 useum\, 107 S. Alfred St.\n<br />Contact Phone: 703.746.3891 or 703.746.4
 994\n<br />Fees: Free for fathers &amp\; grandfathers!\n<br />Audience: A
 nyone may attend\n<br />Tags: Family\, King St. Metro\, King Street\, Mus
 eums\, Old &amp\; Historic Alexandria\, Old Town\, Parents\, Summer Fun f
 or Kids\, Tour
X-COA-DTSTAMP:20120228T212431Z
END:VEVENT
END:VCALENDAR
