BEGIN:VCALENDAR
CALSCALE:GREGORIAN
METHOD:PUBLISH
PRODID:-//github.com/ical-org/ical.net//NONSGML ical.net 4.0//EN
VERSION:2.0
X-WR-TIMEZONE:US/Eastern
BEGIN:VEVENT
CATEGORIES:Boards & Commissions
CATEGORIES:Commission Meeting
CATEGORIES:Museums
DESCRIPTION:To verify info please see https://apps.alexandriava.gov/Calend
 ar/Detail.aspx?si=34658\n\nRegular Meeting via Zoom Webinar. See link bel
 ow to register and join.\n\nLocation:  Virtual Only\nAudience: Anyone may
  attend\nTags: Boards & Commissions\, Commission Meeting\, Museums\n\nWeb
  resources:\n\nMeeting Agenda\nhttps://www.alexandriava.gov/uploadedFiles
 /oha/info/HARCAgenda20210119.pdf\n
DTEND:20210120T020000Z
DTSTAMP:20210111T220210Z
DTSTART:20210120T000001Z
LOCATION: Virtual Only
SEQUENCE:6
STATUS:CONFIRMED
SUMMARY:VIRTUAL: Historic Alexandria Resources Commission
TRANSP:TRANSPARENT
UID:0d71a082-13ab-4ad6-bc6b-bb81fa00bd59
URL:https://www.alexandriava.gov/uploadedFiles/oha/info/HARCAgenda20210119
 .pdf
X-ALT-DESC;FMTTYPE=text/html:To verify info please see <a href="https://ap
 ps.alexandriava.gov/Calendar/Detail.aspx?si=34658">https://apps.alexandri
 ava.gov/Calendar/Detail.aspx?si=34658</a><br />\n<br />Regular Meeting vi
 a Zoom Webinar. See link below to register and join.\n<br />\n<br />Locat
 ion:  Virtual Only\n<br />Audience: Anyone may attend\n<br />Tags: Boards
  &amp\; Commissions\, Commission Meeting\, Museums<br>\n<a href="https://
 www.alexandriava.gov/uploadedFiles/oha/info/HARCAgenda20210119.pdf">Meeti
 ng Agenda</a><br>\n
X-COA-DTSTAMP:20210111T220210Z
END:VEVENT
END:VCALENDAR
