BEGIN:VCALENDAR
CALSCALE:GREGORIAN
METHOD:PUBLISH
PRODID:-//github.com/ical-org/ical.net//NONSGML ical.net 4.0//EN
VERSION:2.0
X-WR-TIMEZONE:US/Eastern
BEGIN:VEVENT
CATEGORIES:Boards & Commissions
CATEGORIES:Commission Meeting
CATEGORIES:Museums
CATEGORIES:Sister Cities
DESCRIPTION:To verify info please see https://apps.alexandriava.gov/Calend
 ar/Detail.aspx?si=34657\n\nRegular Meeting via Zoom.See link below to reg
 ister and join.\n\nLocation:  Virtual Only\nAudience: Anyone may attend\n
 Tags: Boards & Commissions\, Commission Meeting\, Museums\, Sister Cities
 \n\nWeb resources:\n\nMeeting agenda\nhttps://www.alexandriava.gov/upload
 edFiles/historic/info/commissions/ACSCCAgenda20210614.pdf\n
DTEND:20210615T010000Z
DTSTAMP:20210614T184303Z
DTSTART:20210614T230000Z
LOCATION: Virtual Only
SEQUENCE:6
STATUS:CONFIRMED
SUMMARY:VIRTUAL: Alexandria-Caen Sister Cities Committee
TRANSP:OPAQUE
UID:37cc499a-69fe-44de-b738-bedaaf9f697f
URL:https://www.alexandriava.gov/uploadedFiles/historic/info/commissions/A
 CSCCAgenda20210614.pdf
X-ALT-DESC;FMTTYPE=text/html:To verify info please see <a href="https://ap
 ps.alexandriava.gov/Calendar/Detail.aspx?si=34657">https://apps.alexandri
 ava.gov/Calendar/Detail.aspx?si=34657</a><br />\n<br />Regular Meeting vi
 a Zoom.See link below to register and join.\n<br />\n<br />Location:  Vir
 tual Only\n<br />Audience: Anyone may attend\n<br />Tags: Boards &amp\; C
 ommissions\, Commission Meeting\, Museums\, Sister Cities<br>\n<a href="h
 ttps://www.alexandriava.gov/uploadedFiles/historic/info/commissions/ACSCC
 Agenda20210614.pdf">Meeting agenda</a><br>\n
X-COA-DTSTAMP:20210614T184303Z
END:VEVENT
END:VCALENDAR
