BEGIN:VCALENDAR
CALSCALE:GREGORIAN
METHOD:PUBLISH
PRODID:-//github.com/ical-org/ical.net//NONSGML ical.net 4.0//EN
VERSION:2.0
X-WR-TIMEZONE:US/Eastern
BEGIN:VEVENT
CATEGORIES:Costumed Interpreters
CATEGORIES:King Street
CATEGORIES:Museums
CATEGORIES:Old & Historic Alexandria
CATEGORIES:Old Town
CATEGORIES:Recreation
DESCRIPTION:To verify info please see https://apps.alexandriava.gov/Calend
 ar/Detail.aspx?si=3455\n\nStep back to the time of Jane Austen at this la
 te 1790s era ball. The evening will feature a variety of English country 
 dances in the historic ballroom\, live music\, and "iced refreshments."  
 Period costume optional\, "after-five" attire encouraged. Reservations re
 quired.\n\nTickets are now on sale -- follow the link below.\n\nLocation:
  Gadsby's Tavern Museum\, 134 N. Royal St.\nContact Phone: 703.746.4242\n
 Fees: $45 in advance\nAudience: Anyone may attend\nTags: Costumed Interpr
 eters\, King Street\, Museums\, Old & Historic Alexandria\, Old Town\, Re
 creation\n\nWeb resources:\n\nhttps://cheyenne.alexandriava.gov/cgi-bin/o
 ha_shop/06625.html\n
DTEND:20120812T030000Z
DTSTAMP:20130619T220000Z
DTSTART:20120812T000001Z
GEO:38.805577;-77.043493
LOCATION:Gadsby's Tavern Museum\, 134 N. Royal St.
SEQUENCE:6
STATUS:CONFIRMED
SUMMARY:Jane Austen Ball
TRANSP:OPAQUE
UID:fa1c9a2f-291d-4d38-a7eb-9cd75c313672
URL:https://cheyenne.alexandriava.gov/cgi-bin/oha_shop/06625.html
X-ALT-DESC;FMTTYPE=text/html:To verify info please see <a href="https://ap
 ps.alexandriava.gov/Calendar/Detail.aspx?si=3455">https://apps.alexandria
 va.gov/Calendar/Detail.aspx?si=3455</a><br />\n<br />Step back to the tim
 e of Jane Austen at this late 1790s era ball. The evening will feature a 
 variety of English country dances in the historic ballroom\, live music\,
  and ?iced refreshments.?  Period costume optional\, ?after-five? attire 
 encouraged. Reservations required.\n<br />\n<br />Tickets are now on sale
  -- follow the link below.\n<br />\n<br />Location: Gadsby&#39\;s Tavern 
 Museum\, 134 N. Royal St.\n<br />Contact Phone: 703.746.4242\n<br />Fees:
  $45 in advance\n<br />Audience: Anyone may attend\n<br />Tags: Costumed 
 Interpreters\, King Street\, Museums\, Old &amp\; Historic Alexandria\, O
 ld Town\, Recreation<br>\n<a href="https://cheyenne.alexandriava.gov/cgi-
 bin/oha_shop/06625.html">https://cheyenne.alexandriava.gov/cgi-bin/oha_sh
 op/06625.html</a><br>\n
X-COA-DTSTAMP:20120706T144355Z
END:VEVENT
END:VCALENDAR
