BEGIN:VCALENDAR
CALSCALE:GREGORIAN
METHOD:PUBLISH
PRODID:-//github.com/ical-org/ical.net//NONSGML ical.net 4.0//EN
VERSION:2.0
X-WR-TIMEZONE:US/Eastern
BEGIN:VEVENT
CATEGORIES:Arts
CATEGORIES:Class
CATEGORIES:Family
CATEGORIES:James Bland
CATEGORIES:Museums
CATEGORIES:Parker Gray
CATEGORIES:Workshop
CATEGORIES:Youth
DESCRIPTION:To verify info please see https://apps.alexandriava.gov/Calend
 ar/Detail.aspx?si=3435\n\nDo you have a favorite house? Maybe it's your o
 wn\, or grandma's. Maybe the President lives in it. Or maybe it is the ne
 ighborhood barbershop. Let Sushmita\, a local book artist and writer\, sh
 ow you how she makes books that are houses for all kinds of creatures and
  of course\, all kinds of stories. Make a House Storybook of your own and
  fill it with stories from your life! This program is for children ages 6
  through 12 and adult family members welcome to join in. The workshop run
 s from 11 a.m. to 12:30 p.m. The cost is $15 per family and includes mate
 rials. Advance registration is required. Call 703.746.4356 for more infor
 mation or to register. \n\nLocation: Black History Museum\, 902 Wythe St.
 \nContact Phone: 703.746.4356\nFees: $15 per family\nAudience: Anyone may
  attend\nTags: Arts\, Class\, Family\, James Bland\, Museums\, Parker Gra
 y\, Workshop\, Youth
DTEND:20120310T173000Z
DTSTAMP:20130619T220000Z
DTSTART:20120310T160000Z
GEO:38.812083;-77.048042
LOCATION:Black History Museum\, 902 Wythe St.
SEQUENCE:6
STATUS:CONFIRMED
SUMMARY:Making House Storybooks: Activity for Kids
TRANSP:OPAQUE
UID:07631427-88cb-4ac1-9534-ebb2bfe04f44
X-ALT-DESC;FMTTYPE=text/html:To verify info please see <a href="https://ap
 ps.alexandriava.gov/Calendar/Detail.aspx?si=3435">https://apps.alexandria
 va.gov/Calendar/Detail.aspx?si=3435</a><br />\n<br />Do you have a favori
 te house? Maybe it?s your own\, or grandma?s. Maybe the President lives i
 n it. Or maybe it is the neighborhood barbershop. Let Sushmita\, a local 
 book artist and writer\, show you how she makes books that are houses for
  all kinds of creatures and of course\, all kinds of stories. Make a Hous
 e Storybook of your own and fill it with stories from your life! This pro
 gram is for children ages 6 through 12 and adult family members welcome t
 o join in. The workshop runs from 11 a.m. to 12:30 p.m. The cost is $15 p
 er family and includes materials. Advance registration is required. Call 
 703.746.4356 for more information or to register. \n<br />\n<br />Locatio
 n: Black History Museum\, 902 Wythe St.\n<br />Contact Phone: 703.746.435
 6\n<br />Fees: $15 per family\n<br />Audience: Anyone may attend\n<br />T
 ags: Arts\, Class\, Family\, James Bland\, Museums\, Parker Gray\, Worksh
 op\, Youth
X-COA-DTSTAMP:20120224T123403Z
END:VEVENT
END:VCALENDAR
