BEGIN:VCALENDAR
CALSCALE:GREGORIAN
METHOD:PUBLISH
PRODID:-//github.com/ical-org/ical.net//NONSGML ical.net 4.0//EN
VERSION:2.0
X-WR-TIMEZONE:US/Eastern
BEGIN:VEVENT
CATEGORIES:Boards & Commissions
CATEGORIES:Commission Meeting
CATEGORIES:Public Hearing
CATEGORIES:Recreation
CATEGORIES:Recreation Centers
CATEGORIES:Regular Meeting
DESCRIPTION:To verify info please see https://apps.alexandriava.gov/Calend
 ar/Detail.aspx?si=3249\n\nBriefing on open space and recreational element
 s of Beauregard Corridor Small Area Plan\, followed by regular meeting\n\
 nLocation: Jerome "Buddie" Ford Nature Center\, 5750 Sanger Avenue\nConta
 ct Person: William Chesley\nContact Phone: 703.746.5426\nContact Email: w
 illiam.chesley@alexandriava.gov\nAudience: Anyone may attend\nTags: Board
 s & Commissions\, Commission Meeting\, Public Hearing\, Recreation\, Recr
 eation Centers\, Regular Meeting\n\nWeb resources:\n\nhttp://alexandriava
 .gov/25560\n
DTEND:20120217T023000Z
DTSTAMP:20130619T220000Z
DTSTART:20120217T000001Z
GEO:38.827623;-77.131512
LOCATION:Jerome "Buddie" Ford Nature Center\, 5750 Sanger Avenue
SEQUENCE:9
STATUS:CONFIRMED
SUMMARY:Park and Recreation Commission (update)
TRANSP:OPAQUE
UID:4eafede9-7b12-47e2-be6f-3d6621685379
URL:http://alexandriava.gov/25560
X-ALT-DESC;FMTTYPE=text/html:To verify info please see <a href="https://ap
 ps.alexandriava.gov/Calendar/Detail.aspx?si=3249">https://apps.alexandria
 va.gov/Calendar/Detail.aspx?si=3249</a><br />\n<br />Briefing on open spa
 ce and recreational elements of Beauregard Corridor Small Area Plan\, fol
 lowed by regular meeting\n<br />\n<br />Location: Jerome &quot\;Buddie&qu
 ot\; Ford Nature Center\, 5750 Sanger Avenue\n<br />Contact Person: Willi
 am Chesley\n<br />Contact Phone: 703.746.5426\n<br />Contact Email: willi
 am.chesley@alexandriava.gov\n<br />Audience: Anyone may attend\n<br />Tag
 s: Boards &amp\; Commissions\, Commission Meeting\, Public Hearing\, Recr
 eation\, Recreation Centers\, Regular Meeting<br>\n<a href="http://alexan
 driava.gov/25560">http://alexandriava.gov/25560</a><br>\n
X-COA-DTSTAMP:20120213T191648Z
END:VEVENT
END:VCALENDAR
