BEGIN:VCALENDAR
CALSCALE:GREGORIAN
METHOD:PUBLISH
PRODID:-//github.com/ical-org/ical.net//NONSGML ical.net 4.0//EN
VERSION:2.0
X-WR-TIMEZONE:US/Eastern
BEGIN:VEVENT
CATEGORIES:Arts
CATEGORIES:Braddock Metro
CATEGORIES:Family
CATEGORIES:Performing Arts
CATEGORIES:Recreation
CATEGORIES:Recreation Centers
CATEGORIES:Teens
CATEGORIES:Youth
DESCRIPTION:To verify info please see https://apps.alexandriava.gov/Calend
 ar/Detail.aspx?si=3087\n\nCalling all youth\, from pre-schoolers to teens
 !! Come join us for a day of fun in the arts!  You will have the opportun
 ity to explore different forms of visual and performing arts including da
 ncing\, stepping\, drama\, drawing\, painting and candy making.  The day 
 will culminate with a short showcase of all the exciting things you did d
 uring the day.  This is sure to be an event that you don't want to miss! 
  Lite refreshments will be served.\n\nLocation: Charles Houston Recreatio
 n Center\, 901 Wythe St.\nContact Person: Jannie Wray\nContact Phone: 703
 .746.5552 ext. 0\nContact Email: celenanoel@gmail.com\nFees: Free\nAudien
 ce: Anyone may attend\nTags: Arts\, Braddock Metro\, Family\, Performing 
 Arts\, Recreation\, Recreation Centers\, Teens\, Youth
DTEND:20120114T223000Z
DTSTAMP:20130619T220000Z
DTSTART:20120114T183000Z
GEO:38.812326;-77.048213
LOCATION:Charles Houston Recreation Center\, 901 Wythe St.
SEQUENCE:5
STATUS:CONFIRMED
SUMMARY:Exploring the Artist in You! Youth Arts Symposium
TRANSP:TRANSPARENT
UID:e4cf78a2-4d9c-4391-973d-18e686d995e3
X-ALT-DESC;FMTTYPE=text/html:To verify info please see <a href="https://ap
 ps.alexandriava.gov/Calendar/Detail.aspx?si=3087">https://apps.alexandria
 va.gov/Calendar/Detail.aspx?si=3087</a><br />\n<br />Calling all youth\, 
 from pre-schoolers to teens!! Come join us for a day of fun in the arts! 
  You will have the opportunity to explore different forms of visual and p
 erforming arts including dancing\, stepping\, drama\, drawing\, painting 
 and candy making.  The day will culminate with a short showcase of all th
 e exciting things you did during the day.  This is sure to be an event th
 at you don?t want to miss!  Lite refreshments will be served.\n<br />\n<b
 r />Location: Charles Houston Recreation Center\, 901 Wythe St.\n<br />Co
 ntact Person: Jannie Wray\n<br />Contact Phone: 703.746.5552 ext. 0\n<br 
 />Contact Email: celenanoel@gmail.com\n<br />Fees: Free\n<br />Audience: 
 Anyone may attend\n<br />Tags: Arts\, Braddock Metro\, Family\, Performin
 g Arts\, Recreation\, Recreation Centers\, Teens\, Youth
X-COA-DTSTAMP:20120106T222604Z
END:VEVENT
END:VCALENDAR
