BEGIN:VCALENDAR
CALSCALE:GREGORIAN
METHOD:PUBLISH
PRODID:-//github.com/ical-org/ical.net//NONSGML ical.net 4.0//EN
VERSION:2.0
X-WR-TIMEZONE:US/Eastern
BEGIN:VEVENT
CATEGORIES:Affordable Housing
CATEGORIES:Boards & Commissions
CATEGORIES:City Hall
CATEGORIES:Commission Meeting
DESCRIPTION:To verify info please see https://apps.alexandriava.gov/Calend
 ar/Detail.aspx?si=29555\n\nRegular monthly meeting of the City's Housing 
 Affordability Advisory Committee (AHAAC)\n\nLocation: City Hall\, Room 20
 00\, 301 King St.\nContact Person: Tamara Jovovic\nContact Phone: 703.746
 .4990\nContact Email: tamara.jovovic@alexandriava.gov\nAudience: Anyone m
 ay attend\nTags: Affordable Housing\, Boards & Commissions\, City Hall\, 
 Commission Meeting\n\nWeb resources:\n\nhttp://alexandriava.gov/housing\n
DTEND:20200306T020000Z
DTSTAMP:20200114T203225Z
DTSTART:20200306T000001Z
GEO:38.805587;-77.042801
LOCATION:City Hall\, Room 2000\, 301 King St.
SEQUENCE:5
STATUS:CONFIRMED
SUMMARY:Housing Affordability Advisory Committee (AHAAC)
TRANSP:OPAQUE
UID:d37d691b-29d2-4f66-ae29-3645a6dd1f6d
URL:http://alexandriava.gov/housing
X-ALT-DESC;FMTTYPE=text/html:To verify info please see <a href="https://ap
 ps.alexandriava.gov/Calendar/Detail.aspx?si=29555">https://apps.alexandri
 ava.gov/Calendar/Detail.aspx?si=29555</a><br />\n<br />Regular monthly me
 eting of the City&#39\;s Housing Affordability Advisory Committee (AHAAC)
 \n<br />\n<br />Location: City Hall\, Room 2000\, 301 King St.\n<br />Con
 tact Person: Tamara Jovovic\n<br />Contact Phone: 703.746.4990\n<br />Con
 tact Email: tamara.jovovic@alexandriava.gov\n<br />Audience: Anyone may a
 ttend\n<br />Tags: Affordable Housing\, Boards &amp\; Commissions\, City 
 Hall\, Commission Meeting<br>\n<a href="http://alexandriava.gov/housing">
 http://alexandriava.gov/housing</a><br>\n
X-COA-DTSTAMP:20200114T203225Z
END:VEVENT
END:VCALENDAR
