BEGIN:VCALENDAR
CALSCALE:GREGORIAN
METHOD:PUBLISH
PRODID:-//github.com/ical-org/ical.net//NONSGML ical.net 4.0//EN
VERSION:2.0
X-WR-TIMEZONE:US/Eastern
BEGIN:VEVENT
CATEGORIES:Affordable Housing
DESCRIPTION:To verify info please see https://apps.alexandriava.gov/Calend
 ar/Detail.aspx?si=28069\n\nThis session's topic is "Getting Back on Track
 : Your Questions about Living in a Community Association Answered"\nLocat
 ion:  Fairlington Community Center\, 3308 S Stafford St\, Arlington\, VA 
 22206 \nEvent is free but registration is required\n\nLocation:  No Locat
 ion Specified\nContact Person: Brandi Collins\nContact Phone: 703.746.499
 0\nContact Email: brandi.collins@alexandriava.gov\nAudience: Anyone may a
 ttend\nTags: Affordable Housing\n\nWeb resources:\n\nhttps://www.alexandr
 iava.gov/housing/info/default.aspx?id=97057\n
DTEND:20200328T160000Z
DTSTAMP:20200323T184308Z
DTSTART:20200328T140000Z
SEQUENCE:7
STATUS:CANCELLED
SUMMARY:POSTPONED: Condominium and Community Assn Training
TRANSP:TRANSPARENT
UID:824a6872-91f6-4b08-9bad-1ab618f17366
URL:https://www.alexandriava.gov/housing/info/default.aspx?id=97057
X-ALT-DESC;FMTTYPE=text/html:To verify info please see <a href="https://ap
 ps.alexandriava.gov/Calendar/Detail.aspx?si=28069">https://apps.alexandri
 ava.gov/Calendar/Detail.aspx?si=28069</a><br />\n<br />This session&#39\;
 s topic is &quot\;Getting Back on Track: Your Questions about Living in a
  Community Association Answered&quot\;\n<br />Location:  Fairlington Comm
 unity Center\, 3308 S Stafford St\, Arlington\, VA 22206 \n<br />Event is
  free but registration is required\n<br />\n<br />Location:  No Location 
 Specified\n<br />Contact Person: Brandi Collins\n<br />Contact Phone: 703
 .746.4990\n<br />Contact Email: brandi.collins@alexandriava.gov\n<br />Au
 dience: Anyone may attend\n<br />Tags: Affordable Housing<br>\n<a href="h
 ttps://www.alexandriava.gov/housing/info/default.aspx?id=97057">https://w
 ww.alexandriava.gov/housing/info/default.aspx?id=97057</a><br>\n
X-COA-DTSTAMP:20200323T184308Z
END:VEVENT
END:VCALENDAR
