BEGIN:VCALENDAR
CALSCALE:GREGORIAN
METHOD:PUBLISH
PRODID:-//github.com/ical-org/ical.net//NONSGML ical.net 4.0//EN
VERSION:2.0
X-WR-TIMEZONE:US/Eastern
BEGIN:VEVENT
CATEGORIES:Boards & Commissions
CATEGORIES:Open Space
CATEGORIES:Parks
CATEGORIES:Public Hearing Commissions
CATEGORIES:Recreation
DESCRIPTION:To verify info please see https://apps.alexandriava.gov/Calend
 ar/Detail.aspx?si=28029\n\nRegular monthly meeting\n\nLocation: Charles H
 ouston Recreation Center\, 901 Wythe St.\nContact Person: Jack Browand\nC
 ontact Phone: 703.746.5504\nContact Email: jack.browand@alexandriava.gov\
 nAudience: Anyone may attend\nTags: Boards & Commissions\, Open Space\, P
 arks\, Public Hearing Commissions\, Recreation\n\nWeb resources:\n\nhttp:
 //alexandriava.gov/25560\n
DTEND:20191122T020000Z
DTSTAMP:20191022T224125Z
DTSTART:20191122T000001Z
GEO:38.812326;-77.048213
LOCATION:Charles Houston Recreation Center\, 901 Wythe St.
SEQUENCE:5
STATUS:CONFIRMED
SUMMARY:Park and Recreation Commission
TRANSP:TRANSPARENT
UID:005d9f93-adac-45e5-b005-458df2a230e9
URL:http://alexandriava.gov/25560
X-ALT-DESC;FMTTYPE=text/html:To verify info please see <a href="https://ap
 ps.alexandriava.gov/Calendar/Detail.aspx?si=28029">https://apps.alexandri
 ava.gov/Calendar/Detail.aspx?si=28029</a><br />\n<br />Regular monthly me
 eting\n<br />\n<br />Location: Charles Houston Recreation Center\, 901 Wy
 the St.\n<br />Contact Person: Jack Browand\n<br />Contact Phone: 703.746
 .5504\n<br />Contact Email: jack.browand@alexandriava.gov\n<br />Audience
 : Anyone may attend\n<br />Tags: Boards &amp\; Commissions\, Open Space\,
  Parks\, Public Hearing Commissions\, Recreation<br>\n<a href="http://ale
 xandriava.gov/25560">http://alexandriava.gov/25560</a><br>\n
X-COA-DTSTAMP:20191022T224125Z
END:VEVENT
END:VCALENDAR
