BEGIN:VCALENDAR
CALSCALE:GREGORIAN
METHOD:PUBLISH
PRODID:-//github.com/ical-org/ical.net//NONSGML ical.net 4.0//EN
VERSION:2.0
X-WR-TIMEZONE:US/Eastern
BEGIN:VEVENT
CATEGORIES:Boards & Commissions
CATEGORIES:Business Development
CATEGORIES:Commission Meeting
CATEGORIES:King Street
CATEGORIES:Tourism
CATEGORIES:Washington Street
DESCRIPTION:To verify info please see https://apps.alexandriava.gov/Calend
 ar/Detail.aspx?si=27986\n\nVisit Alexandria Board Executive Committee mee
 ting\, Carlyle Room\n\nLocation: Visit Alexandria Offices\nContact Person
 : Patricia Washington\nContact Phone: 703.652.5362\nAudience: Anyone may 
 attend\nTags: Boards & Commissions\, Business Development\, Commission Me
 eting\, King Street\, Tourism\, Washington Street
DTEND:20191104T233000Z
DTSTAMP:20191015T150606Z
DTSTART:20191104T220000Z
LOCATION:Visit Alexandria Offices
SEQUENCE:5
STATUS:CONFIRMED
SUMMARY:Visit Alexandria Board Executive Comm. Mtg.
TRANSP:OPAQUE
UID:f7058b63-e84e-4691-99c5-7dbc569807b6
X-ALT-DESC;FMTTYPE=text/html:To verify info please see <a href="https://ap
 ps.alexandriava.gov/Calendar/Detail.aspx?si=27986">https://apps.alexandri
 ava.gov/Calendar/Detail.aspx?si=27986</a><br />\n<br />Visit Alexandria B
 oard Executive Committee meeting\, Carlyle Room\n<br />\n<br />Location: 
 Visit Alexandria Offices\n<br />Contact Person: Patricia Washington\n<br 
 />Contact Phone: 703.652.5362\n<br />Audience: Anyone may attend\n<br />T
 ags: Boards &amp\; Commissions\, Business Development\, Commission Meetin
 g\, King Street\, Tourism\, Washington Street
X-COA-DTSTAMP:20191015T150606Z
END:VEVENT
END:VCALENDAR
