BEGIN:VCALENDAR
CALSCALE:GREGORIAN
METHOD:PUBLISH
PRODID:-//github.com/ical-org/ical.net//NONSGML ical.net 4.0//EN
VERSION:2.0
X-WR-TIMEZONE:US/Eastern
BEGIN:VEVENT
CATEGORIES:Carlyle Eisenhower East
CATEGORIES:Community Outreach
CATEGORIES:Holiday Event
DESCRIPTION:To verify info please see https://apps.alexandriava.gov/Calend
 ar/Detail.aspx?si=27836\n\nJoin us for holiday and market festivities in 
 Carlyle!\n\nLocation: John Carlyle Park\, 300 John Carlyle St.\nContact P
 erson: Katherine Carraway\nContact Phone: 703.746.3855\nContact Email: ka
 therine.carraway@alexandriava.gov\nAudience: Anyone may attend\nTags: Car
 lyle Eisenhower East\, Community Outreach\, Holiday Event\n\nWeb resource
 s:\n\nhttps://www.alexandriava.gov/Carlyle\n
DTEND:20191203T000001Z
DTSTAMP:20190918T150914Z
DTSTART:20191202T160000Z
GEO:38.803698;-77.061582
LOCATION:John Carlyle Park\, 300 John Carlyle St.
SEQUENCE:5
STATUS:CONFIRMED
SUMMARY:Carlyle Holiday Market
TRANSP:OPAQUE
UID:6ba30526-b2d7-44a7-84c2-8669f62719ff
URL:https://www.alexandriava.gov/Carlyle
X-ALT-DESC;FMTTYPE=text/html:To verify info please see <a href="https://ap
 ps.alexandriava.gov/Calendar/Detail.aspx?si=27836">https://apps.alexandri
 ava.gov/Calendar/Detail.aspx?si=27836</a><br />\n<br />Join us for holida
 y and market festivities in Carlyle!\n<br />\n<br />Location: John Carlyl
 e Park\, 300 John Carlyle St.\n<br />Contact Person: Katherine Carraway\n
 <br />Contact Phone: 703.746.3855\n<br />Contact Email: katherine.carrawa
 y@alexandriava.gov\n<br />Audience: Anyone may attend\n<br />Tags: Carlyl
 e Eisenhower East\, Community Outreach\, Holiday Event<br>\n<a href="http
 s://www.alexandriava.gov/Carlyle">https://www.alexandriava.gov/Carlyle</a
 ><br>\n
X-COA-DTSTAMP:20190918T150914Z
END:VEVENT
END:VCALENDAR
