BEGIN:VCALENDAR
CALSCALE:GREGORIAN
METHOD:PUBLISH
PRODID:-//github.com/ical-org/ical.net//NONSGML ical.net 4.0//EN
VERSION:2.0
X-WR-TIMEZONE:US/Eastern
BEGIN:VEVENT
CATEGORIES:Affordable Housing
CATEGORIES:Alexandria Redevelopment and Housing Authority
CATEGORIES:Planning Meeting
DESCRIPTION:To verify info please see https://apps.alexandriava.gov/Calend
 ar/Detail.aspx?si=23905\n\nRegular Meeting of the ARHA Redevelopment Work
  Group\n\nLocation: City Hall\, Council Work Room\, 301 King St.\nContact
  Person: Brandi Collins\nContact Phone: 703.746.4990\nContact Email: bran
 di.collins@alexandriava.gov\nAudience: Anyone may attend\nTags: Affordabl
 e Housing\, Alexandria Redevelopment and Housing Authority\, Planning Mee
 ting\n\nWeb resources:\n\nhttps://www.alexandriava.gov/Housing\n
DTEND:20190916T230000Z
DTSTAMP:20190827T164156Z
DTSTART:20190916T213000Z
GEO:38.805416;-77.043305
LOCATION:City Hall\, Council Work Room\, 301 King St.
SEQUENCE:8
STATUS:CONFIRMED
SUMMARY:ARHA Redevelopment Work Group Meeting
TRANSP:OPAQUE
UID:bc53c987-45ca-4d5a-81e3-a35fc050e474
URL:https://www.alexandriava.gov/Housing
X-ALT-DESC;FMTTYPE=text/html:To verify info please see <a href="https://ap
 ps.alexandriava.gov/Calendar/Detail.aspx?si=23905">https://apps.alexandri
 ava.gov/Calendar/Detail.aspx?si=23905</a><br />\n<br />Regular Meeting of
  the ARHA Redevelopment Work Group\n<br />\n<br />Location: City Hall\, C
 ouncil Work Room\, 301 King St.\n<br />Contact Person: Brandi Collins\n<b
 r />Contact Phone: 703.746.4990\n<br />Contact Email: brandi.collins@alex
 andriava.gov\n<br />Audience: Anyone may attend\n<br />Tags: Affordable H
 ousing\, Alexandria Redevelopment and Housing Authority\, Planning Meetin
 g<br>\n<a href="https://www.alexandriava.gov/Housing">https://www.alexand
 riava.gov/Housing</a><br>\n
X-COA-DTSTAMP:20190827T164156Z
END:VEVENT
END:VCALENDAR
