BEGIN:VCALENDAR
CALSCALE:GREGORIAN
METHOD:PUBLISH
PRODID:-//github.com/ical-org/ical.net//NONSGML ical.net 4.0//EN
VERSION:2.0
X-WR-TIMEZONE:US/Eastern
BEGIN:VEVENT
CATEGORIES:Alexandria Redevelopment and Housing Authority
CATEGORIES:Community Event
CATEGORIES:Family
CATEGORIES:Halloween
CATEGORIES:Holiday Event
CATEGORIES:Recreation
CATEGORIES:Recreation Centers
CATEGORIES:Youth
DESCRIPTION:To verify info please see https://apps.alexandriava.gov/Calend
 ar/Detail.aspx?si=2270\n\nCome and "get your scare on"\, while you walk t
 hrough "The Haunted Alley" and "The Graveyard" on Madison Street.  Pumpki
 n carving\, face painting\, scare crow-making and candy treats are all a 
 part of the evening's fun.  Younger children who are not into "scariness"
  can watch a family-friendly movie while decorating cookies and cupcakes 
 in the Charles Houston Recreation Center Multipurpose Room. Prizes for th
 e best costume and the best painted pumpkin face.  All of the evenings ev
 ents are being co-sponsored by ARHA\, Alexandria Recreation Department\, 
 ACPS\, McDonalds\, Sherwin Williams/Duron Paints\, EYA Boston Capital and
  Target.\n\nLocation: Charles Houston Recreation Center\, 901 Wythe St.\n
 Contact Person: Sheila Whiting\nContact Phone: 703.746.5451\nAudience: Ci
 ty Residents Only\nTags: Alexandria Redevelopment and Housing Authority\,
  Community Event\, Family\, Halloween\, Holiday Event\, Recreation\, Recr
 eation Centers\, Youth
DTEND:20111101T010000Z
DTSTAMP:20130619T220000Z
DTSTART:20111031T220000Z
GEO:38.812326;-77.048213
LOCATION:Charles Houston Recreation Center\, 901 Wythe St.
SEQUENCE:8
STATUS:CONFIRMED
SUMMARY:"Chiller Nightmare on Madison Street"
TRANSP:TRANSPARENT
UID:0a8b9d5c-1565-45b1-a836-48af270dbae1
X-ALT-DESC;FMTTYPE=text/html:To verify info please see <a href="https://ap
 ps.alexandriava.gov/Calendar/Detail.aspx?si=2270">https://apps.alexandria
 va.gov/Calendar/Detail.aspx?si=2270</a><br />\n<br />Come and &quot\;get 
 your scare on&quot\;\, while you walk through &quot\;The Haunted Alley&qu
 ot\; and &quot\;The Graveyard&quot\; on Madison Street.  Pumpkin carving\
 , face painting\, scare crow-making and candy treats are all a part of th
 e evening&#39\;s fun.  Younger children who are not into &quot\;scariness
 &quot\; can watch a family-friendly movie while decorating cookies and cu
 pcakes in the Charles Houston Recreation Center Multipurpose Room. Prizes
  for the best costume and the best painted pumpkin face.  All of the even
 ings events are being co-sponsored by ARHA\, Alexandria Recreation Depart
 ment\, ACPS\, McDonalds\, Sherwin Williams/Duron Paints\, EYA Boston Capi
 tal and Target.\n<br />\n<br />Location: Charles Houston Recreation Cente
 r\, 901 Wythe St.\n<br />Contact Person: Sheila Whiting\n<br />Contact Ph
 one: 703.746.5451\n<br />Audience: City Residents Only\n<br />Tags: Alexa
 ndria Redevelopment and Housing Authority\, Community Event\, Family\, Ha
 lloween\, Holiday Event\, Recreation\, Recreation Centers\, Youth
X-COA-DTSTAMP:20111024T160338Z
END:VEVENT
END:VCALENDAR
