BEGIN:VCALENDAR
CALSCALE:GREGORIAN
METHOD:PUBLISH
PRODID:-//github.com/ical-org/ical.net//NONSGML ical.net 4.0//EN
VERSION:2.0
X-WR-TIMEZONE:US/Eastern
BEGIN:VEVENT
CATEGORIES:City Council Calendar
CATEGORIES:City Hall
CATEGORIES:Family
CATEGORIES:Holiday Event
CATEGORIES:King Street
CATEGORIES:Mayor
CATEGORIES:Old & Historic Alexandria
CATEGORIES:Old Town
CATEGORIES:Performing Arts
CATEGORIES:Recreation
CATEGORIES:Volunteer
DESCRIPTION:To verify info please see https://apps.alexandriava.gov/Calend
 ar/Detail.aspx?si=1956\n\nOfficial kick off to the Holiday season\, the C
 ity tree is lighted.\nEntertainment features a visit from Santa\, a perfo
 rmance of Santa's Frosty Follies by the Metropolitan Fine Arts Center\, p
 lus caroling and a community sing along.\n\nLocation: Market Square\, 301
  King St.\nContact Person: Special Events Office\nContact Phone: 703.746.
 5592\nAudience: Anyone may attend\nTags: City Council Calendar\, City Hal
 l\, Family\, Holiday Event\, King Street\, Mayor\, Old & Historic Alexand
 ria\, Old Town\, Performing Arts\, Recreation\, Volunteer
DTEND:20111126T020000Z
DTSTAMP:20130619T220000Z
DTSTART:20111126T000001Z
GEO:38.804935;-77.042978
LOCATION:Market Square\, 301 King St.
SEQUENCE:10
STATUS:CONFIRMED
SUMMARY:City Tree Lighting Ceremony
TRANSP:TRANSPARENT
UID:cb621d4b-c2ec-4c2b-9aa7-3b70679424de
X-ALT-DESC;FMTTYPE=text/html:To verify info please see <a href="https://ap
 ps.alexandriava.gov/Calendar/Detail.aspx?si=1956">https://apps.alexandria
 va.gov/Calendar/Detail.aspx?si=1956</a><br />\n<br />Official kick off to
  the Holiday season\, the City tree is lighted.\n<br />Entertainment feat
 ures a visit from Santa\, a performance of Santa?s Frosty Follies by the 
 Metropolitan Fine Arts Center\, plus caroling and a community sing along.
 \n<br />\n<br />Location: Market Square\, 301 King St.\n<br />Contact Per
 son: Special Events Office\n<br />Contact Phone: 703.746.5592\n<br />Audi
 ence: Anyone may attend\n<br />Tags: City Council Calendar\, City Hall\, 
 Family\, Holiday Event\, King Street\, Mayor\, Old &amp\; Historic Alexan
 dria\, Old Town\, Performing Arts\, Recreation\, Volunteer
X-COA-DTSTAMP:20111018T171240Z
END:VEVENT
END:VCALENDAR
