BEGIN:VCALENDAR
CALSCALE:GREGORIAN
METHOD:PUBLISH
PRODID:-//github.com/ical-org/ical.net//NONSGML ical.net 4.0//EN
VERSION:2.0
X-WR-TIMEZONE:US/Eastern
BEGIN:VEVENT
CATEGORIES:ACPS Long Range Planning
CATEGORIES:City Hall
CATEGORIES:Local Motion
CATEGORIES:Parking
CATEGORIES:Planning Boards and Commissions
CATEGORIES:Planning Commission
CATEGORIES:Planning Meeting
CATEGORIES:T&ES Events
DESCRIPTION:To verify info please see https://apps.alexandriava.gov/Calend
 ar/Detail.aspx?si=16507\n\nTask Force - Phase 2. This phase will review d
 ata and provide recommendations related to commercial parking standards.\
 n\nLocation: City Hall\, Sister Cities Room 1101\, 301 King St.\nContact 
 Person: Katye North\nContact Phone: 703.746.4139\nContact Email: katye.no
 rth@alexandriava.gov\nAudience: Anyone may attend\nTags: ACPS Long Range 
 Planning\, City Hall\, Local Motion\, Parking\, Planning Boards and Commi
 ssions\, Planning Commission\, Planning Meeting\, T&ES Events\n\nWeb reso
 urces:\n\nhttps://www.alexandriava.gov/76333\n
DTEND:20170816T010000Z
DTSTAMP:20170726T203858Z
DTSTART:20170815T230000Z
GEO:38.805537;-77.042758
LOCATION:City Hall\, Sister Cities Room 1101\, 301 King St.
SEQUENCE:5
STATUS:CONFIRMED
SUMMARY:Parking Standards for New Develp. Task Force
TRANSP:TRANSPARENT
UID:e3115b72-01c7-46c2-b8e8-114c796453b7
URL:https://www.alexandriava.gov/76333
X-ALT-DESC;FMTTYPE=text/html:To verify info please see <a href="https://ap
 ps.alexandriava.gov/Calendar/Detail.aspx?si=16507">https://apps.alexandri
 ava.gov/Calendar/Detail.aspx?si=16507</a><br />\n<br />Task Force - Phase
  2. This phase will review data and provide recommendations related to co
 mmercial parking standards.\n<br />\n<br />Location: City Hall\, Sister C
 ities Room 1101\, 301 King St.\n<br />Contact Person: Katye North\n<br />
 Contact Phone: 703.746.4139\n<br />Contact Email: katye.north@alexandriav
 a.gov\n<br />Audience: Anyone may attend\n<br />Tags: ACPS Long Range Pla
 nning\, City Hall\, Local Motion\, Parking\, Planning Boards and Commissi
 ons\, Planning Commission\, Planning Meeting\, T&amp\;ES Events<br>\n<a h
 ref="https://www.alexandriava.gov/76333">https://www.alexandriava.gov/763
 33</a><br>\n
X-COA-DTSTAMP:20170726T203858Z
END:VEVENT
END:VCALENDAR
