BEGIN:VCALENDAR
CALSCALE:GREGORIAN
METHOD:PUBLISH
PRODID:-//github.com/ical-org/ical.net//NONSGML ical.net 4.0//EN
VERSION:2.0
X-WR-TIMEZONE:US/Eastern
BEGIN:VEVENT
CATEGORIES:City Council
CATEGORIES:Community Event
CATEGORIES:Dedication Ceremony
CATEGORIES:Del Ray
CATEGORIES:Open Space
CATEGORIES:Parks
CATEGORIES:Recreation
DESCRIPTION:To verify info please see https://apps.alexandriava.gov/Calend
 ar/Detail.aspx?si=11664\n\nThe public is invited to join City Council for
  the dedication of the Judy Lowe Neighborhood Park\, 1 & 7 E. Del Ray Ave
 .\, on Saturday\, October 17\, at 8:30 a.m.  The dedication will be held 
 rain or shine.\n\nLocation: 1 & 7 E. Del Ray Ave. Park\, 1 E. Del Ray Ave
 .\nContact Person: Jack Browand\nContact Phone: 703.746.5504\nContact Ema
 il: jack.browand@alexandriava.gov\nAudience: Anyone may attend\nTags: Cit
 y Council\, Community Event\, Dedication Ceremony\, Del Ray\, Open Space\
 , Parks\, Recreation
DTEND:20151017T133000Z
DTSTAMP:20151007T140035Z
DTSTART:20151017T123000Z
GEO:38.825684;-77.061775
LOCATION:1 & 7 E. Del Ray Ave. Park\, 1 E. Del Ray Ave.
SEQUENCE:5
STATUS:CONFIRMED
SUMMARY:Judy Lowe Neighborhood Park Dedication
TRANSP:TRANSPARENT
UID:3495b38a-6ea7-4ba2-af01-e8b0118a372e
X-ALT-DESC;FMTTYPE=text/html:To verify info please see <a href="https://ap
 ps.alexandriava.gov/Calendar/Detail.aspx?si=11664">https://apps.alexandri
 ava.gov/Calendar/Detail.aspx?si=11664</a><br />\n<br />The public is invi
 ted to join City Council for the dedication of the Judy Lowe Neighborhood
  Park\, 1 &amp\; 7 E. Del Ray Ave.\, on Saturday\, October 17\, at 8:30 a
 .m.  The dedication will be held rain or shine.\n<br />\n<br />Location: 
 1 &amp\; 7 E. Del Ray Ave. Park\, 1 E. Del Ray Ave.\n<br />Contact Person
 : Jack Browand\n<br />Contact Phone: 703.746.5504\n<br />Contact Email: j
 ack.browand@alexandriava.gov\n<br />Audience: Anyone may attend\n<br />Ta
 gs: City Council\, Community Event\, Dedication Ceremony\, Del Ray\, Open
  Space\, Parks\, Recreation
X-COA-DTSTAMP:20151007T140035Z
END:VEVENT
END:VCALENDAR
