BEGIN:VCALENDAR
CALSCALE:GREGORIAN
METHOD:PUBLISH
PRODID:-//github.com/ical-org/ical.net//NONSGML ical.net 4.0//EN
VERSION:2.0
X-WR-TIMEZONE:US/Eastern
BEGIN:VEVENT
CATEGORIES:City Hall
CATEGORIES:Concerts
CATEGORIES:Family
CATEGORIES:King Street
CATEGORIES:Old Town
CATEGORIES:Performing Arts
CATEGORIES:Recreation
DESCRIPTION:To verify info please see https://apps.alexandriava.gov/Calend
 ar/Detail.aspx?si=10705\n\nCity Sponsored Concert at Market Square with a
  performance by the 257th Army Band\, "The Band of the Nation's Capital"\
 , featuring "All Entertainment"--music from the stage\, the screen and th
 e ring.   Feel free to bring chairs or sit on the bench seating around th
 e Square.\n\nLocation: Market Square\, 301 King St.\nContact Person: Spec
 ial Events\nContact Phone: 703.746.5592\nAudience: Anyone may attend\nTag
 s: City Hall\, Concerts\, Family\, King Street\, Old Town\, Performing Ar
 ts\, Recreation
DTEND:20150802T230000Z
DTSTAMP:20150618T151704Z
DTSTART:20150802T220000Z
GEO:38.804935;-77.042978
LOCATION:Market Square\, 301 King St.
SEQUENCE:9
STATUS:CONFIRMED
SUMMARY:257th Army Band Concert
TRANSP:TRANSPARENT
UID:cf752a90-fd69-4642-9acf-4812edfb8c4c
X-ALT-DESC;FMTTYPE=text/html:To verify info please see <a href="https://ap
 ps.alexandriava.gov/Calendar/Detail.aspx?si=10705">https://apps.alexandri
 ava.gov/Calendar/Detail.aspx?si=10705</a><br />\n<br />City Sponsored Con
 cert at Market Square with a performance by the 257th Army Band\, &quot\;
 The Band of the Nation&#39\;s Capital&quot\;\, featuring &quot\;All Enter
 tainment&quot\;--music from the stage\, the screen and the ring.   Feel f
 ree to bring chairs or sit on the bench seating around the Square.\n<br /
 >\n<br />Location: Market Square\, 301 King St.\n<br />Contact Person: Sp
 ecial Events\n<br />Contact Phone: 703.746.5592\n<br />Audience: Anyone m
 ay attend\n<br />Tags: City Hall\, Concerts\, Family\, King Street\, Old 
 Town\, Performing Arts\, Recreation
X-COA-DTSTAMP:20150618T151704Z
END:VEVENT
END:VCALENDAR
