BEGIN:VCALENDAR
CALSCALE:GREGORIAN
METHOD:PUBLISH
PRODID:-//github.com/ical-org/ical.net//NONSGML ical.net 4.0//EN
VERSION:2.0
X-WR-TIMEZONE:US/Eastern
BEGIN:VEVENT
CATEGORIES:Carlyle Eisenhower East
CATEGORIES:Concerts
CATEGORIES:Family
CATEGORIES:Parks
CATEGORIES:Performing Arts
CATEGORIES:Recreation
DESCRIPTION:To verify info please see https://apps.alexandriava.gov/Calend
 ar/Detail.aspx?si=10693\n\nCity concert series with a performance by Vint
 age #18 featuring Blues & Soul. Feel free to bring chairs or a blanket an
 d a picnic supper.\n\nLocation: John Carlyle Park\, 300 John Carlyle St.\
 nContact Person: Special Events Hotline\nContact Phone: 703.746.5592\nAud
 ience: Anyone may attend\nTags: Carlyle Eisenhower East\, Concerts\, Fami
 ly\, Parks\, Performing Arts\, Recreation
DTEND:20150807T000001Z
DTSTAMP:20150422T222824Z
DTSTART:20150806T230000Z
GEO:38.803698;-77.061582
LOCATION:John Carlyle Park\, 300 John Carlyle St.
SEQUENCE:6
STATUS:CONFIRMED
SUMMARY:Music at Twilight Concert-John Carlyle Square Park
TRANSP:TRANSPARENT
UID:f210a9d2-2420-4ca6-a0a9-0cc69a265638
X-ALT-DESC;FMTTYPE=text/html:To verify info please see <a href="https://ap
 ps.alexandriava.gov/Calendar/Detail.aspx?si=10693">https://apps.alexandri
 ava.gov/Calendar/Detail.aspx?si=10693</a><br />\n<br />City concert serie
 s with a performance by Vintage #18 featuring Blues &amp\; Soul. Feel fre
 e to bring chairs or a blanket and a picnic supper.\n<br />\n<br />Locati
 on: John Carlyle Park\, 300 John Carlyle St.\n<br />Contact Person: Speci
 al Events Hotline\n<br />Contact Phone: 703.746.5592\n<br />Audience: Any
 one may attend\n<br />Tags: Carlyle Eisenhower East\, Concerts\, Family\,
  Parks\, Performing Arts\, Recreation
X-COA-DTSTAMP:20150422T222824Z
END:VEVENT
END:VCALENDAR
