BEGIN:VCALENDAR
CALSCALE:GREGORIAN
METHOD:PUBLISH
PRODID:-//github.com/ical-org/ical.net//NONSGML ical.net 4.0//EN
VERSION:2.0
X-WR-TIMEZONE:US/Eastern
BEGIN:VEVENT
CATEGORIES:Carlyle Eisenhower East
CATEGORIES:Concerts
CATEGORIES:Family
CATEGORIES:Parks
CATEGORIES:Recreation
DESCRIPTION:To verify info please see https://apps.alexandriava.gov/Calend
 ar/Detail.aspx?si=10692\n\nCity concert series with a performance by The 
 Muddy Crows featuring Modern/Americana\, and Folk-Rock music. Feel free t
 o bring chairs or a blanket and a picnic supper.\n\nLocation: John Carlyl
 e Park\, 300 John Carlyle St.\nContact Person: Special Events Hotline\nCo
 ntact Phone: 703.746.5592\nAudience: Anyone may attend\nTags: Carlyle Eis
 enhower East\, Concerts\, Family\, Parks\, Recreation
DTEND:20150731T000001Z
DTSTAMP:20150422T222703Z
DTSTART:20150730T230000Z
GEO:38.803698;-77.061582
LOCATION:John Carlyle Park\, 300 John Carlyle St.
SEQUENCE:7
STATUS:CONFIRMED
SUMMARY:Music at Twilight Concert-John Carlyle Square Park
TRANSP:TRANSPARENT
UID:d30b9669-d3f1-42b9-9979-5fec300b266d
X-ALT-DESC;FMTTYPE=text/html:To verify info please see <a href="https://ap
 ps.alexandriava.gov/Calendar/Detail.aspx?si=10692">https://apps.alexandri
 ava.gov/Calendar/Detail.aspx?si=10692</a><br />\n<br />City concert serie
 s with a performance by The Muddy Crows featuring Modern/Americana\, and 
 Folk-Rock music. Feel free to bring chairs or a blanket and a picnic supp
 er.\n<br />\n<br />Location: John Carlyle Park\, 300 John Carlyle St.\n<b
 r />Contact Person: Special Events Hotline\n<br />Contact Phone: 703.746.
 5592\n<br />Audience: Anyone may attend\n<br />Tags: Carlyle Eisenhower E
 ast\, Concerts\, Family\, Parks\, Recreation
X-COA-DTSTAMP:20150422T222703Z
END:VEVENT
END:VCALENDAR
