BEGIN:VCALENDAR
CALSCALE:GREGORIAN
METHOD:PUBLISH
PRODID:-//github.com/ical-org/ical.net//NONSGML ical.net 4.0//EN
VERSION:2.0
X-WR-TIMEZONE:US/Eastern
BEGIN:VEVENT
CATEGORIES:Carlyle Eisenhower East
CATEGORIES:Concerts
CATEGORIES:Family
CATEGORIES:Parks
CATEGORIES:Performing Arts
CATEGORIES:Recreation
DESCRIPTION:To verify info please see https://apps.alexandriava.gov/Calend
 ar/Detail.aspx?si=10691\n\nCity concert series with a performance by the 
 Alexandria Harmonizers featuring Men's Barbershop music. Feel free to bri
 ng chairs or a blanket and a picnic supper.\n\nLocation: John Carlyle Par
 k\, 300 John Carlyle St.\nContact Person: Special Events Hotline\nContact
  Phone: 703.746.5592\nAudience: Anyone may attend\nTags: Carlyle Eisenhow
 er East\, Concerts\, Family\, Parks\, Performing Arts\, Recreation
DTEND:20150717T000001Z
DTSTAMP:20150422T222008Z
DTSTART:20150716T230000Z
GEO:38.803698;-77.061582
LOCATION:John Carlyle Park\, 300 John Carlyle St.
SEQUENCE:6
STATUS:CONFIRMED
SUMMARY:Music at Twilight Concert-John Carlyle Square Park
TRANSP:TRANSPARENT
UID:b0bf77c5-5f13-4691-be92-895b1fd20862
X-ALT-DESC;FMTTYPE=text/html:To verify info please see <a href="https://ap
 ps.alexandriava.gov/Calendar/Detail.aspx?si=10691">https://apps.alexandri
 ava.gov/Calendar/Detail.aspx?si=10691</a><br />\n<br />City concert serie
 s with a performance by the Alexandria Harmonizers featuring Men&#39\;s B
 arbershop music. Feel free to bring chairs or a blanket and a picnic supp
 er.\n<br />\n<br />Location: John Carlyle Park\, 300 John Carlyle St.\n<b
 r />Contact Person: Special Events Hotline\n<br />Contact Phone: 703.746.
 5592\n<br />Audience: Anyone may attend\n<br />Tags: Carlyle Eisenhower E
 ast\, Concerts\, Family\, Parks\, Performing Arts\, Recreation
X-COA-DTSTAMP:20150422T222008Z
END:VEVENT
END:VCALENDAR
