BEGIN:VCALENDAR
CALSCALE:GREGORIAN
METHOD:PUBLISH
PRODID:-//github.com/ical-org/ical.net//NONSGML ical.net 4.0//EN
VERSION:2.0
X-WR-TIMEZONE:US/Eastern
BEGIN:VEVENT
CATEGORIES:Carlyle Eisenhower East
CATEGORIES:Concerts
CATEGORIES:Family
CATEGORIES:Parks
CATEGORIES:Recreation
DESCRIPTION:To verify info please see https://apps.alexandriava.gov/Calend
 ar/Detail.aspx?si=10690\n\nCity concert series with a performance by E & 
 Me featuring Jazz. Feel free to bring chairs or a blanket and a picnic su
 pper.\n\nLocation: John Carlyle Park\, 300 John Carlyle St.\nContact Pers
 on: Special Events Hotline\nContact Phone: 703.746.5592\nAudience: Anyone
  may attend\nTags: Carlyle Eisenhower East\, Concerts\, Family\, Parks\, 
 Recreation
DTEND:20150619T000001Z
DTSTAMP:20150422T221825Z
DTSTART:20150618T230000Z
GEO:38.803698;-77.061582
LOCATION:John Carlyle Park\, 300 John Carlyle St.
SEQUENCE:6
STATUS:CONFIRMED
SUMMARY:Music at Twilight Concert-John Carlyle Square Park
TRANSP:TRANSPARENT
UID:48e05e6e-893e-4b23-9b79-fb4f75585ed9
X-ALT-DESC;FMTTYPE=text/html:To verify info please see <a href="https://ap
 ps.alexandriava.gov/Calendar/Detail.aspx?si=10690">https://apps.alexandri
 ava.gov/Calendar/Detail.aspx?si=10690</a><br />\n<br />City concert serie
 s with a performance by E &amp\; Me featuring Jazz. Feel free to bring ch
 airs or a blanket and a picnic supper.\n<br />\n<br />Location: John Carl
 yle Park\, 300 John Carlyle St.\n<br />Contact Person: Special Events Hot
 line\n<br />Contact Phone: 703.746.5592\n<br />Audience: Anyone may atten
 d\n<br />Tags: Carlyle Eisenhower East\, Concerts\, Family\, Parks\, Recr
 eation
X-COA-DTSTAMP:20150422T221825Z
END:VEVENT
END:VCALENDAR
