BEGIN:VCALENDAR
CALSCALE:GREGORIAN
METHOD:PUBLISH
PRODID:-//github.com/ical-org/ical.net//NONSGML ical.net 4.0//EN
VERSION:2.0
X-WR-TIMEZONE:US/Eastern
BEGIN:VEVENT
CATEGORIES:Carlyle Eisenhower East
CATEGORIES:Concerts
CATEGORIES:Family
CATEGORIES:Parks
CATEGORIES:Performing Arts
CATEGORIES:Recreation
DESCRIPTION:To verify info please see https://apps.alexandriava.gov/Calend
 ar/Detail.aspx?si=10689\n\nCity Concert series with a performance by Darc
 yDawn & Co featuring pop\,rock\,country\,and top hits. Feel free to bring
  chairs or a blanket and a picnic supper.\n\nLocation: John Carlyle Park\
 , 300 John Carlyle St.\nContact Person: Special Events Hotline\nContact P
 hone: 703.746.5592\nAudience: Anyone may attend\nTags: Carlyle Eisenhower
  East\, Concerts\, Family\, Parks\, Performing Arts\, Recreation
DTEND:20150605T000001Z
DTSTAMP:20150604T213905Z
DTSTART:20150604T230000Z
GEO:38.803698;-77.061582
LOCATION:John Carlyle Park\, 300 John Carlyle St.
SEQUENCE:8
STATUS:CONFIRMED
SUMMARY:CANCELLED Music at Twilight Concert
TRANSP:TRANSPARENT
UID:4cfa3483-07dd-448b-af12-3e690f0509bc
X-ALT-DESC;FMTTYPE=text/html:To verify info please see <a href="https://ap
 ps.alexandriava.gov/Calendar/Detail.aspx?si=10689">https://apps.alexandri
 ava.gov/Calendar/Detail.aspx?si=10689</a><br />\n<br />City Concert serie
 s with a performance by DarcyDawn &amp\; Co featuring pop\,rock\,country\
 ,and top hits. Feel free to bring chairs or a blanket and a picnic supper
 .\n<br />\n<br />Location: John Carlyle Park\, 300 John Carlyle St.\n<br 
 />Contact Person: Special Events Hotline\n<br />Contact Phone: 703.746.55
 92\n<br />Audience: Anyone may attend\n<br />Tags: Carlyle Eisenhower Eas
 t\, Concerts\, Family\, Parks\, Performing Arts\, Recreation
X-COA-DTSTAMP:20150604T213905Z
END:VEVENT
END:VCALENDAR
