BEGIN:VCALENDAR
CALSCALE:GREGORIAN
METHOD:PUBLISH
PRODID:-//github.com/ical-org/ical.net//NONSGML ical.net 4.0//EN
VERSION:2.0
X-WR-TIMEZONE:US/Eastern
BEGIN:VEVENT
CATEGORIES:City Hall
CATEGORIES:Concerts
CATEGORIES:Family
CATEGORIES:Old Town
CATEGORIES:Performing Arts
CATEGORIES:Recreation
CATEGORIES:Schools
DESCRIPTION:To verify info please see https://apps.alexandriava.gov/Calend
 ar/Detail.aspx?si=10636\n\nConcert featuring Alexandria Country Day Schoo
 l Blues\, Rock\, Concert Band. \n\nLocation: Market Square\, 301 King St.
 \nContact Person: Special Events\nContact Phone: 703.746.5592\nAudience: 
 Anyone may attend\nTags: City Hall\, Concerts\, Family\, Old Town\, Perfo
 rming Arts\, Recreation\, Schools
DTEND:20150511T170000Z
DTSTAMP:20150422T221201Z
DTSTART:20150511T161500Z
GEO:38.804935;-77.042978
LOCATION:Market Square\, 301 King St.
SEQUENCE:9
STATUS:CONFIRMED
SUMMARY:School Lunch Bunch Concerts
TRANSP:TRANSPARENT
UID:0d8ec87c-b1e8-44f5-9ca1-419ad4c6cfd9
X-ALT-DESC;FMTTYPE=text/html:To verify info please see <a href="https://ap
 ps.alexandriava.gov/Calendar/Detail.aspx?si=10636">https://apps.alexandri
 ava.gov/Calendar/Detail.aspx?si=10636</a><br />\n<br />Concert featuring 
 Alexandria Country Day School Blues\, Rock\, Concert Band. \n<br />\n<br 
 />Location: Market Square\, 301 King St.\n<br />Contact Person: Special E
 vents\n<br />Contact Phone: 703.746.5592\n<br />Audience: Anyone may atte
 nd\n<br />Tags: City Hall\, Concerts\, Family\, Old Town\, Performing Art
 s\, Recreation\, Schools
X-COA-DTSTAMP:20150422T221201Z
END:VEVENT
END:VCALENDAR
