BEGIN:VCALENDAR
CALSCALE:GREGORIAN
METHOD:PUBLISH
PRODID:-//github.com/ical-org/ical.net//NONSGML ical.net 4.0//EN
VERSION:2.0
X-WR-TIMEZONE:US/Eastern
BEGIN:VEVENT
CATEGORIES:City Hall
CATEGORIES:Concerts
CATEGORIES:Family
CATEGORIES:Old Town
CATEGORIES:Performing Arts
CATEGORIES:Recreation
CATEGORIES:Schools
DESCRIPTION:To verify info please see https://apps.alexandriava.gov/Calend
 ar/Detail.aspx?si=10635\n\nConcert featuring Immanuel Lutheran School Stu
 dent Choirs & Presenters.\n\nLocation: Market Square\, 301 King St.\nCont
 act Person: Special Events\nContact Phone: 703.746.5592\nAudience: Anyone
  may attend\nTags: City Hall\, Concerts\, Family\, Old Town\, Performing 
 Arts\, Recreation\, Schools
DTEND:20150529T170000Z
DTSTAMP:20150422T221003Z
DTSTART:20150529T161500Z
GEO:38.804935;-77.042978
LOCATION:Market Square\, 301 King St.
SEQUENCE:8
STATUS:CONFIRMED
SUMMARY:School Lunch Bunch Concerts
TRANSP:TRANSPARENT
UID:8f1d8ece-ccd4-4e28-a9ff-1a1b7bc0ba01
X-ALT-DESC;FMTTYPE=text/html:To verify info please see <a href="https://ap
 ps.alexandriava.gov/Calendar/Detail.aspx?si=10635">https://apps.alexandri
 ava.gov/Calendar/Detail.aspx?si=10635</a><br />\n<br />Concert featuring 
 Immanuel Lutheran School Student Choirs &amp\; Presenters.\n<br />\n<br /
 >Location: Market Square\, 301 King St.\n<br />Contact Person: Special Ev
 ents\n<br />Contact Phone: 703.746.5592\n<br />Audience: Anyone may atten
 d\n<br />Tags: City Hall\, Concerts\, Family\, Old Town\, Performing Arts
 \, Recreation\, Schools
X-COA-DTSTAMP:20150422T221003Z
END:VEVENT
END:VCALENDAR
