BEGIN:VCALENDAR
CALSCALE:GREGORIAN
METHOD:PUBLISH
PRODID:-//github.com/ical-org/ical.net//NONSGML ical.net 4.0//EN
VERSION:2.0
X-WR-TIMEZONE:US/Eastern
BEGIN:VEVENT
CATEGORIES:City Hall
CATEGORIES:Concerts
CATEGORIES:Family
CATEGORIES:Old Town
CATEGORIES:Performing Arts
CATEGORIES:Recreation
CATEGORIES:Schools
DESCRIPTION:To verify info please see https://apps.alexandriava.gov/Calend
 ar/Detail.aspx?si=10634\n\nConcert by Our Lady of Good Counsel School Cho
 ir of Vienna\, VA.\n\nLocation: Market Square\, 301 King St.\nContact Per
 son: Special Events Hotline\nContact Phone: 703.746.5592\nAudience: Anyon
 e may attend\nTags: City Hall\, Concerts\, Family\, Old Town\, Performing
  Arts\, Recreation\, Schools
DTEND:20150506T170000Z
DTSTAMP:20150414T150821Z
DTSTART:20150506T161500Z
GEO:38.804935;-77.042978
LOCATION:Market Square\, 301 King St.
SEQUENCE:6
STATUS:CONFIRMED
SUMMARY:School Lunch Bunch Concerts
TRANSP:TRANSPARENT
UID:5324d1d0-d223-45f6-a0ee-ed0668c9db77
X-ALT-DESC;FMTTYPE=text/html:To verify info please see <a href="https://ap
 ps.alexandriava.gov/Calendar/Detail.aspx?si=10634">https://apps.alexandri
 ava.gov/Calendar/Detail.aspx?si=10634</a><br />\n<br />Concert by Our Lad
 y of Good Counsel School Choir of Vienna\, VA.\n<br />\n<br />Location: M
 arket Square\, 301 King St.\n<br />Contact Person: Special Events Hotline
 \n<br />Contact Phone: 703.746.5592\n<br />Audience: Anyone may attend\n<
 br />Tags: City Hall\, Concerts\, Family\, Old Town\, Performing Arts\, R
 ecreation\, Schools
X-COA-DTSTAMP:20150414T150821Z
END:VEVENT
END:VCALENDAR
