BEGIN:VCALENDAR
CALSCALE:GREGORIAN
METHOD:PUBLISH
PRODID:-//github.com/ical-org/ical.net//NONSGML ical.net 4.0//EN
VERSION:2.0
X-WR-TIMEZONE:US/Eastern
BEGIN:VEVENT
CATEGORIES:City Hall
CATEGORIES:Concerts
CATEGORIES:Family
CATEGORIES:Old Town
CATEGORIES:Performing Arts
CATEGORIES:Recreation
CATEGORIES:Schools
DESCRIPTION:To verify info please see https://apps.alexandriava.gov/Calend
 ar/Detail.aspx?si=10633\n\nConcert by James K. Polk Elementary Third Grad
 e Recorder Ensemble.\n\nLocation: Market Square\, 301 King St.\nContact P
 erson: Special Events Hotline\nContact Phone: 703.746.5592\nAudience: Any
 one may attend\nTags: City Hall\, Concerts\, Family\, Old Town\, Performi
 ng Arts\, Recreation\, Schools
DTEND:20150505T170000Z
DTSTAMP:20150414T150619Z
DTSTART:20150505T161500Z
GEO:38.804935;-77.042978
LOCATION:Market Square\, 301 King St.
SEQUENCE:7
STATUS:CONFIRMED
SUMMARY:School Lunch Bunch Concerts
TRANSP:TRANSPARENT
UID:edf63d3a-db27-4358-8ed3-ae515ea627c0
X-ALT-DESC;FMTTYPE=text/html:To verify info please see <a href="https://ap
 ps.alexandriava.gov/Calendar/Detail.aspx?si=10633">https://apps.alexandri
 ava.gov/Calendar/Detail.aspx?si=10633</a><br />\n<br />Concert by James K
 . Polk Elementary Third Grade Recorder Ensemble.\n<br />\n<br />Location:
  Market Square\, 301 King St.\n<br />Contact Person: Special Events Hotli
 ne\n<br />Contact Phone: 703.746.5592\n<br />Audience: Anyone may attend\
 n<br />Tags: City Hall\, Concerts\, Family\, Old Town\, Performing Arts\,
  Recreation\, Schools
X-COA-DTSTAMP:20150414T150619Z
END:VEVENT
END:VCALENDAR
