BEGIN:VCALENDAR
CALSCALE:GREGORIAN
METHOD:PUBLISH
PRODID:-//github.com/ical-org/ical.net//NONSGML ical.net 4.0//EN
VERSION:2.0
X-WR-TIMEZONE:US/Eastern
BEGIN:VEVENT
CATEGORIES:City Hall
CATEGORIES:Concerts
CATEGORIES:Family
CATEGORIES:Old Town
CATEGORIES:Performing Arts
CATEGORIES:Recreation
CATEGORIES:Schools
DESCRIPTION:To verify info please see https://apps.alexandriava.gov/Calend
 ar/Detail.aspx?si=10632\n\nConcert featuring Browne Academy Advanced Guit
 ar Ensemble.\n\nLocation: Market Square\, 301 King St.\nContact Person: S
 pecial Events Hotline\nContact Phone: 703.746.5592\nAudience: Anyone may 
 attend\nTags: City Hall\, Concerts\, Family\, Old Town\, Performing Arts\
 , Recreation\, Schools
DTEND:20150504T170000Z
DTSTAMP:20150414T150457Z
DTSTART:20150504T161500Z
GEO:38.804935;-77.042978
LOCATION:Market Square\, 301 King St.
SEQUENCE:10
STATUS:CONFIRMED
SUMMARY:School Lunch Bunch Concerts
TRANSP:TRANSPARENT
UID:86023a4a-a519-4c88-a6b7-50a4c4a7f8f5
X-ALT-DESC;FMTTYPE=text/html:To verify info please see <a href="https://ap
 ps.alexandriava.gov/Calendar/Detail.aspx?si=10632">https://apps.alexandri
 ava.gov/Calendar/Detail.aspx?si=10632</a><br />\n<br />Concert featuring 
 Browne Academy Advanced Guitar Ensemble.\n<br />\n<br />Location: Market 
 Square\, 301 King St.\n<br />Contact Person: Special Events Hotline\n<br 
 />Contact Phone: 703.746.5592\n<br />Audience: Anyone may attend\n<br />T
 ags: City Hall\, Concerts\, Family\, Old Town\, Performing Arts\, Recreat
 ion\, Schools
X-COA-DTSTAMP:20150414T150457Z
END:VEVENT
END:VCALENDAR
