BEGIN:VCALENDAR
CALSCALE:GREGORIAN
METHOD:PUBLISH
PRODID:-//github.com/ical-org/ical.net//NONSGML ical.net 4.0//EN
VERSION:2.0
X-WR-TIMEZONE:US/Eastern
BEGIN:VEVENT
CATEGORIES:Arlandria
CATEGORIES:Community Event
CATEGORIES:Concerts
CATEGORIES:Family
CATEGORIES:Four Mile Run
CATEGORIES:Performing Arts
CATEGORIES:Recreation
DESCRIPTION:To verify info please see https://apps.alexandriava.gov/Calend
 ar/Detail.aspx?si=10620\n\nFour Mile Run Farmers & Artisans Market Concer
 t Series featuring Ian Kraft.\n\nLocation: Four Mile Run at Mt. Vernon Av
 e\nContact Person: Catherine Riccio\nContact Phone: 804.464.7861\nContact
  Email: 4MRStage@Arlandria.org\nAudience: Anyone may attend\nTags: Arland
 ria\, Community Event\, Concerts\, Family\, Four Mile Run\, Performing Ar
 ts\, Recreation\n\nWeb resources:\n\nhttp://www.4MRMarket.org\n
DTEND:20150517T160000Z
DTSTAMP:20150504T134657Z
DTSTART:20150517T140000Z
GEO:38.844337;-77.064242
LOCATION:Four Mile Run at Mt. Vernon Ave
SEQUENCE:9
STATUS:CONFIRMED
SUMMARY:4MRStage Concert Series
TRANSP:TRANSPARENT
UID:5e631a7f-614d-4f62-a5c7-4f2188502255
URL:http://www.4MRMarket.org
X-ALT-DESC;FMTTYPE=text/html:To verify info please see <a href="https://ap
 ps.alexandriava.gov/Calendar/Detail.aspx?si=10620">https://apps.alexandri
 ava.gov/Calendar/Detail.aspx?si=10620</a><br />\n<br />Four Mile Run Farm
 ers &amp\; Artisans Market Concert Series featuring Ian Kraft.\n<br />\n<
 br />Location: Four Mile Run at Mt. Vernon Ave\n<br />Contact Person: Cat
 herine Riccio\n<br />Contact Phone: 804.464.7861\n<br />Contact Email: 4M
 RStage@Arlandria.org\n<br />Audience: Anyone may attend\n<br />Tags: Arla
 ndria\, Community Event\, Concerts\, Family\, Four Mile Run\, Performing 
 Arts\, Recreation<br>\n<a href="http://www.4MRMarket.org">http://www.4MRM
 arket.org</a><br>\n
X-COA-DTSTAMP:20150504T134657Z
END:VEVENT
END:VCALENDAR
