BEGIN:VCALENDAR
CALSCALE:GREGORIAN
METHOD:PUBLISH
PRODID:-//github.com/ical-org/ical.net//NONSGML ical.net 4.0//EN
VERSION:2.0
X-WR-TIMEZONE:US/Eastern
BEGIN:VEVENT
CATEGORIES:Arlandria
CATEGORIES:Community Event
CATEGORIES:Concerts
CATEGORIES:Family
CATEGORIES:Four Mile Run
CATEGORIES:Performing Arts
CATEGORIES:Recreation
DESCRIPTION:To verify info please see https://apps.alexandriava.gov/Calend
 ar/Detail.aspx?si=10619\n\nFour Mile Run Farmers & Artisans Market Concer
 t Series featuring Matt Buchanan.\n\nLocation: Four Mile Run at Mt. Verno
 n Ave\nContact Person: Catherine Riccio\nContact Phone: 804.464.7861\nCon
 tact Email: 4MRStage@Arlandria.org\nAudience: Anyone may attend\nTags: Ar
 landria\, Community Event\, Concerts\, Family\, Four Mile Run\, Performin
 g Arts\, Recreation\n\nWeb resources:\n\nhttp://www.4MRMarket.org\n
DTEND:20150510T160000Z
DTSTAMP:20150504T134626Z
DTSTART:20150510T140000Z
GEO:38.844337;-77.064242
LOCATION:Four Mile Run at Mt. Vernon Ave
SEQUENCE:10
STATUS:CONFIRMED
SUMMARY:4MRStage Concert Series
TRANSP:TRANSPARENT
UID:9c614bd2-2bda-460d-a52c-fa45439ce34d
URL:http://www.4MRMarket.org
X-ALT-DESC;FMTTYPE=text/html:To verify info please see <a href="https://ap
 ps.alexandriava.gov/Calendar/Detail.aspx?si=10619">https://apps.alexandri
 ava.gov/Calendar/Detail.aspx?si=10619</a><br />\n<br />Four Mile Run Farm
 ers &amp\; Artisans Market Concert Series featuring Matt Buchanan.\n<br /
 >\n<br />Location: Four Mile Run at Mt. Vernon Ave\n<br />Contact Person:
  Catherine Riccio\n<br />Contact Phone: 804.464.7861\n<br />Contact Email
 : 4MRStage@Arlandria.org\n<br />Audience: Anyone may attend\n<br />Tags: 
 Arlandria\, Community Event\, Concerts\, Family\, Four Mile Run\, Perform
 ing Arts\, Recreation<br>\n<a href="http://www.4MRMarket.org">http://www.
 4MRMarket.org</a><br>\n
X-COA-DTSTAMP:20150504T134626Z
END:VEVENT
END:VCALENDAR
