BEGIN:VCALENDAR
CALSCALE:GREGORIAN
METHOD:PUBLISH
PRODID:-//github.com/ical-org/ical.net//NONSGML ical.net 4.0//EN
VERSION:2.0
X-WR-TIMEZONE:US/Eastern
BEGIN:VEVENT
CATEGORIES:Concerts
CATEGORIES:Family
CATEGORIES:Food
CATEGORIES:Holiday Event
CATEGORIES:Old Town
CATEGORIES:Parks
CATEGORIES:Performing Arts
CATEGORIES:Recreation
CATEGORIES:Waterfront
DESCRIPTION:To verify info please see https://apps.alexandriava.gov/Calend
 ar/Detail.aspx?si=10573\n\nProgram will include entertainment by various 
 bands and begin with a performance by The Army Blues Jazz Ensemble\, from
  the U. S. Army Band "Pershing's Own". The other performers\, in order ar
 e:  Origem\, featuring Brazilian Jazz\; Halley Shoenberg Jazz Quartet fea
 turing Modern Jazz\; The Larry Brown Quintet\, featuring Straight Ahead J
 azz\; and Night & Day Quintet featuring Swing/Big Band Jazz.  There will 
 also be food and beverage sales.\n\nLocation: Waterfront Park\, 1 Prince 
 St.\nContact Person: Special Events Hotline\nContact Phone: 703.746.5592\
 nAudience: Anyone may attend\nTags: Concerts\, Family\, Food\, Holiday Ev
 ent\, Old Town\, Parks\, Performing Arts\, Recreation\, Waterfront\n\nWeb
  resources:\n\nhttp://www.alexandriava.gov/uploadedFiles/recreation/WebBo
 xes/JazzFestivalFlyer.pdf\n
DTEND:20150525T220000Z
DTSTAMP:20150513T032809Z
DTSTART:20150525T170000Z
GEO:38.803380;-77.039641
LOCATION:Waterfront Park\, 1 Prince St.
SEQUENCE:13
STATUS:CONFIRMED
SUMMARY:38th Annual Memorial Day Jazz Festival
TRANSP:TRANSPARENT
UID:d80a26cc-e721-4ad1-96c0-28a5ab552946
URL:http://www.alexandriava.gov/uploadedFiles/recreation/WebBoxes/JazzFest
 ivalFlyer.pdf
X-ALT-DESC;FMTTYPE=text/html:To verify info please see <a href="https://ap
 ps.alexandriava.gov/Calendar/Detail.aspx?si=10573">https://apps.alexandri
 ava.gov/Calendar/Detail.aspx?si=10573</a><br />\n<br />Program will inclu
 de entertainment by various bands and begin with a performance by The Arm
 y Blues Jazz Ensemble\, from the U. S. Army Band &quot\;Pershing&#39\;s O
 wn&quot\;. The other performers\, in order are:  Origem\, featuring Brazi
 lian Jazz\; Halley Shoenberg Jazz Quartet featuring Modern Jazz\; The Lar
 ry Brown Quintet\, featuring Straight Ahead Jazz\; and Night &amp\; Day Q
 uintet featuring Swing/Big Band Jazz.  There will also be food and bevera
 ge sales.\n<br />\n<br />Location: Waterfront Park\, 1 Prince St.\n<br />
 Contact Person: Special Events Hotline\n<br />Contact Phone: 703.746.5592
 \n<br />Audience: Anyone may attend\n<br />Tags: Concerts\, Family\, Food
 \, Holiday Event\, Old Town\, Parks\, Performing Arts\, Recreation\, Wate
 rfront<br>\n<a href="http://www.alexandriava.gov/uploadedFiles/recreation
 /WebBoxes/JazzFestivalFlyer.pdf">http://www.alexandriava.gov/uploadedFile
 s/recreation/WebBoxes/JazzFestivalFlyer.pdf</a><br>\n
X-COA-DTSTAMP:20150513T032809Z
END:VEVENT
END:VCALENDAR
