BEGIN:VCALENDAR
CALSCALE:GREGORIAN
METHOD:PUBLISH
PRODID:-//github.com/ical-org/ical.net//NONSGML ical.net 4.0//EN
VERSION:2.0
X-WR-TIMEZONE:US/Eastern
BEGIN:VEVENT
CATEGORIES:Concerts
CATEGORIES:Lyceum
CATEGORIES:Museums
CATEGORIES:Old & Historic Alexandria
CATEGORIES:Old Town
CATEGORIES:Performing Arts
DESCRIPTION:To verify info please see https://apps.alexandriava.gov/Calend
 ar/Detail.aspx?si=10460\n\nA Brahms-Schumann Soir?e: Chamber Music with V
 iolin\, Clarinet\, Cello and Piano\, The Ensemble da Camera of Washington
  - Ricardo Cyncynates (violin)\, Claire Eichhorn (clarinet)\, Anna Balake
 rskaia (piano)\, and cello. Works by Brahms and Schumann.\n\nLocation: Ly
 ceum\nContact Phone: 703.851.9050\nFees: Donations to LLS accepted.\nAudi
 ence: Anyone may attend\nTags: Concerts\, Lyceum\, Museums\, Old & Histor
 ic Alexandria\, Old Town\, Performing Arts\n\nWeb resources:\n\nhttp://ww
 w.edcwashington.com \n
DTEND:20150531T230000Z
DTSTAMP:20150311T154839Z
DTSTART:20150531T210000Z
LOCATION:Lyceum
SEQUENCE:5
STATUS:CONFIRMED
SUMMARY:A Brahms-Schumann Soir?e
TRANSP:OPAQUE
UID:a0658a0a-92b3-4602-8e3f-c027a09f3dcb
URL:http://www.edcwashington.com
X-ALT-DESC;FMTTYPE=text/html:To verify info please see <a href="https://ap
 ps.alexandriava.gov/Calendar/Detail.aspx?si=10460">https://apps.alexandri
 ava.gov/Calendar/Detail.aspx?si=10460</a><br />\n<br />A Brahms-Schumann 
 Soir&#233\;e: Chamber Music with Violin\, Clarinet\, Cello and Piano\, Th
 e Ensemble da Camera of Washington - Ricardo Cyncynates (violin)\, Claire
  Eichhorn (clarinet)\, Anna Balakerskaia (piano)\, and cello. Works by Br
 ahms and Schumann.\n<br />\n<br />Location: Lyceum\n<br />Contact Phone: 
 703.851.9050\n<br />Fees: Donations to LLS accepted.\n<br />Audience: Any
 one may attend\n<br />Tags: Concerts\, Lyceum\, Museums\, Old &amp\; Hist
 oric Alexandria\, Old Town\, Performing Arts<br>\n<a href="http://www.edc
 washington.com ">http://www.edcwashington.com </a><br>\n
X-COA-DTSTAMP:20150311T154839Z
END:VEVENT
END:VCALENDAR
