BEGIN:VCALENDAR
CALSCALE:GREGORIAN
METHOD:PUBLISH
PRODID:-//github.com/ical-org/ical.net//NONSGML ical.net 4.0//EN
VERSION:2.0
X-WR-TIMEZONE:US/Eastern
BEGIN:VEVENT
CATEGORIES:Concerts
CATEGORIES:Lyceum
CATEGORIES:Museums
CATEGORIES:Old & Historic Alexandria
CATEGORIES:Old Town
CATEGORIES:Performing Arts
DESCRIPTION:To verify info please see https://apps.alexandriava.gov/Calend
 ar/Detail.aspx?si=10459\n\nThe Eclectic Guitars: Blues in the Night. Larr
 y Snitzler\, (Classical Guitar)\, and Rick Whitehead\, (Jazz Guitar)\, ar
 e at it again\, with a wide-ranging variety of styles and pieces\, coveri
 ng the gamut from Latin American\, to classical\, to American jazz standa
 rds with a special emphasis on the Blues. \n\nLocation: Lyceum\nContact P
 hone: 703.919.9773\nAudience: Anyone may attend\nTags: Concerts\, Lyceum\
 , Museums\, Old & Historic Alexandria\, Old Town\, Performing Arts\n\nWeb
  resources:\n\nhttp://www.rickwhiteheadguitar.com/ \n
DTEND:20150524T201500Z
DTSTAMP:20150425T154625Z
DTSTART:20150524T190000Z
LOCATION:Lyceum
SEQUENCE:6
STATUS:CONFIRMED
SUMMARY:Cancelled:the Eclectic Guitars\, Blues In The Night
TRANSP:OPAQUE
UID:aaaa8084-68c0-4657-9d67-20dad53f4f07
URL:http://www.rickwhiteheadguitar.com/
X-ALT-DESC;FMTTYPE=text/html:To verify info please see <a href="https://ap
 ps.alexandriava.gov/Calendar/Detail.aspx?si=10459">https://apps.alexandri
 ava.gov/Calendar/Detail.aspx?si=10459</a><br />\n<br />The Eclectic Guita
 rs: Blues in the Night. Larry Snitzler\, (Classical Guitar)\, and Rick Wh
 itehead\, (Jazz Guitar)\, are at it again\, with a wide-ranging variety o
 f styles and pieces\, covering the gamut from Latin American\, to classic
 al\, to American jazz standards with a special emphasis on the Blues. \n<
 br />\n<br />Location: Lyceum\n<br />Contact Phone: 703.919.9773\n<br />A
 udience: Anyone may attend\n<br />Tags: Concerts\, Lyceum\, Museums\, Old
  &amp\; Historic Alexandria\, Old Town\, Performing Arts<br>\n<a href="ht
 tp://www.rickwhiteheadguitar.com/ ">http://www.rickwhiteheadguitar.com/ <
 /a><br>\n
X-COA-DTSTAMP:20150425T154625Z
END:VEVENT
END:VCALENDAR
