BEGIN:VCALENDAR
CALSCALE:GREGORIAN
METHOD:PUBLISH
PRODID:-//github.com/ical-org/ical.net//NONSGML ical.net 4.0//EN
VERSION:2.0
X-WR-TIMEZONE:US/Eastern
BEGIN:VEVENT
CATEGORIES:Concerts
CATEGORIES:Lyceum
CATEGORIES:Museums
CATEGORIES:Old & Historic Alexandria
CATEGORIES:Old Town
CATEGORIES:Performing Arts
DESCRIPTION:To verify info please see https://apps.alexandriava.gov/Calend
 ar/Detail.aspx?si=10458\n\nWords&Music presents the fifth installment in 
 the ongoing series "The American Composer"\, this year titled Songs of th
 e Spirit.  Join us as we celebrate the richness and diversity of music th
 at comes from the heart and speaks to the spirit.\n\nLocation: Lyceum\nFe
 es: Tickets: Adults $30\, Seniors\, Active Duty Military $25\, Students $
 20.\nAudience: Anyone may attend\nTags: Concerts\, Lyceum\, Museums\, Old
  & Historic Alexandria\, Old Town\, Performing Arts\n\nWeb resources:\n\n
 http://www.words-music.org\n
DTEND:20150517T013000Z
DTSTAMP:20150311T154327Z
DTSTART:20150516T233000Z
LOCATION:Lyceum
SEQUENCE:5
STATUS:CONFIRMED
SUMMARY:Words&Music presents: Songs of the Spirit
TRANSP:OPAQUE
UID:71c0c818-5d20-4599-8f4d-a3574deb2569
URL:http://www.words-music.org
X-ALT-DESC;FMTTYPE=text/html:To verify info please see <a href="https://ap
 ps.alexandriava.gov/Calendar/Detail.aspx?si=10458">https://apps.alexandri
 ava.gov/Calendar/Detail.aspx?si=10458</a><br />\n<br />Words&amp\;Music p
 resents the fifth installment in the ongoing series &quot\;The American C
 omposer&quot\;\, this year titled Songs of the Spirit.  Join us as we cel
 ebrate the richness and diversity of music that comes from the heart and 
 speaks to the spirit.\n<br />\n<br />Location: Lyceum\n<br />Fees: Ticket
 s: Adults $30\, Seniors\, Active Duty Military $25\, Students $20.\n<br /
 >Audience: Anyone may attend\n<br />Tags: Concerts\, Lyceum\, Museums\, O
 ld &amp\; Historic Alexandria\, Old Town\, Performing Arts<br>\n<a href="
 http://www.words-music.org">http://www.words-music.org</a><br>\n
X-COA-DTSTAMP:20150311T154327Z
END:VEVENT
END:VCALENDAR
