BEGIN:VCALENDAR
CALSCALE:GREGORIAN
METHOD:PUBLISH
PRODID:-//github.com/ical-org/ical.net//NONSGML ical.net 4.0//EN
VERSION:2.0
X-WR-TIMEZONE:US/Eastern
BEGIN:VEVENT
CATEGORIES:Black History Museum
CATEGORIES:Museums
CATEGORIES:Old & Historic Alexandria
CATEGORIES:Old Town
DESCRIPTION:To verify info please see https://apps.alexandriava.gov/Calend
 ar/Detail.aspx?si=10428\n\nThis two-session course is an introductory cla
 ss to genealogy entitled "Putting the Family Together and Organizing Your
  Family History." In the first session of the course\, you will learn how
  to research and organize the paternal and maternal branches of your fami
 ly tree. It will also cover preserving and protecting family heirlooms.  
 The second session will focus on each student's family history and a revi
 ew of each person's family pedigree chart.  \n\nChar McCargo Bah is the C
 EO/Owner of FindingThingsforU\, LLC.  A genealogist since 1981\, she is s
 ought after for her expertise\, having been interviewed for numerous tele
 vision shows and documentaries\, including those produced for CBS\, FOX-5
 \, Comcast\, and PBS. She has also received numerous awards for her work 
 and was named a Living Legend in Alexandria\, Virginia in 2014. McCargo B
 ah served as the official genealogist for the Office of Historic Alexandr
 ia's work in identifying descendants of those buried at the city's Contra
 bands and Freedmen Cemetery. She is co-author of African Americans of Ale
 xandria\, VA: Beacons of Light in the Twentieth Century.\n\n\nLocation: B
 lack History Museum\, 902 Wythe St.\nContact Person: Audrey Davis\nContac
 t Phone: 703.746.4356\nFees: The cost of admission for the two-session co
 urse is $60.00. Payment will be accepted on the first day of class. Only 
 cash or checks will be accepted. Checks can be made out to FindingThingsf
 orU\, LLC.\nAudience: Anyone may attend\nTags: Black History Museum\, Mus
 eums\, Old & Historic Alexandria\, Old Town
DTEND:20150314T170000Z
DTSTAMP:20150306T200544Z
DTSTART:20150314T150000Z
GEO:38.812083;-77.048042
LOCATION:Black History Museum\, 902 Wythe St.
SEQUENCE:5
STATUS:CONFIRMED
SUMMARY:Two-Session Genealogy Course-Black History Museum
TRANSP:TRANSPARENT
UID:896dbd9d-8c9e-4950-a341-b3c3658cd66f
X-ALT-DESC;FMTTYPE=text/html:To verify info please see <a href="https://ap
 ps.alexandriava.gov/Calendar/Detail.aspx?si=10428">https://apps.alexandri
 ava.gov/Calendar/Detail.aspx?si=10428</a><br />\n<br />This two-session c
 ourse is an introductory class to genealogy entitled ?Putting the Family 
 Together and Organizing Your Family History.? In the first session of the
  course\, you will learn how to research and organize the paternal and ma
 ternal branches of your family tree. It will also cover preserving and pr
 otecting family heirlooms.  The second session will focus on each student
 ?s family history and a review of each person?s family pedigree chart.  \
 n<br />\n<br />Char McCargo Bah is the CEO/Owner of FindingThingsforU\, L
 LC.  A genealogist since 1981\, she is sought after for her expertise\, h
 aving been interviewed for numerous television shows and documentaries\, 
 including those produced for CBS\, FOX-5\, Comcast\, and PBS. She has als
 o received numerous awards for her work and was named a Living Legend in 
 Alexandria\, Virginia in 2014. McCargo Bah served as the official genealo
 gist for the Office of Historic Alexandria?s work in identifying descenda
 nts of those buried at the city?s Contrabands and Freedmen Cemetery. She 
 is co-author of African Americans of Alexandria\, VA: Beacons of Light in
  the Twentieth Century.\n<br />\n<br />\n<br />Location: Black History Mu
 seum\, 902 Wythe St.\n<br />Contact Person: Audrey Davis\n<br />Contact P
 hone: 703.746.4356\n<br />Fees: The cost of admission for the two-session
  course is $60.00. Payment will be accepted on the first day of class. On
 ly cash or checks will be accepted. Checks can be made out to FindingThin
 gsforU\, LLC.\n<br />Audience: Anyone may attend\n<br />Tags: Black Histo
 ry Museum\, Museums\, Old &amp\; Historic Alexandria\, Old Town
X-COA-DTSTAMP:20150306T200544Z
END:VEVENT
END:VCALENDAR
