BEGIN:VCALENDAR
CALSCALE:GREGORIAN
METHOD:PUBLISH
PRODID:-//github.com/ical-org/ical.net//NONSGML ical.net 4.0//EN
VERSION:2.0
X-WR-TIMEZONE:US/Eastern
BEGIN:VEVENT
CATEGORIES:Friendship Firehouse Museum
CATEGORIES:Museums
CATEGORIES:Old & Historic Alexandria
CATEGORIES:Old Town
DESCRIPTION:To verify info please see https://apps.alexandriava.gov/Calend
 ar/Detail.aspx?si=10070\n\nThe firehouse photographer will be on duty\, s
 o dads can take home a complimentary photograph. Come have a family portr
 ait taken alongside the historic equipment that fought fires in early 19t
 h - century Alexandria.  See the locally-made hose reel\, and find out ab
 out artifacts such as hose buckets and axes.  Youngsters will also receiv
 e a fire hat of their very own. \n\nLocation: Friendship Firehouse Museum
 \, 107 S. Alfred St.\nContact Phone: 703.746.4994\nFees: Free for Fathers
  and their families\nAudience: Anyone may attend\nTags: Friendship Fireho
 use Museum\, Museums\, Old & Historic Alexandria\, Old Town\n\nWeb resour
 ces:\n\nhttp://www.friendshipfirehouse.net\n
DTEND:20150621T200000Z
DTSTAMP:20150214T220706Z
DTSTART:20150621T170000Z
GEO:38.804940;-77.049408
LOCATION:Friendship Firehouse Museum\, 107 S. Alfred St.
SEQUENCE:7
STATUS:CONFIRMED
SUMMARY:Free Father's Day Open House Friendship Firehouse
TRANSP:TRANSPARENT
UID:3c57fc1d-d023-4163-9260-6c27020942be
URL:http://www.friendshipfirehouse.net
X-ALT-DESC;FMTTYPE=text/html:To verify info please see <a href="https://ap
 ps.alexandriava.gov/Calendar/Detail.aspx?si=10070">https://apps.alexandri
 ava.gov/Calendar/Detail.aspx?si=10070</a><br />\n<br />The firehouse phot
 ographer will be on duty\, so dads can take home a complimentary photogra
 ph. Come have a family portrait taken alongside the historic equipment th
 at fought fires in early 19th ? century Alexandria.  See the locally-made
  hose reel\, and find out about artifacts such as hose buckets and axes. 
  Youngsters will also receive a fire hat of their very own. \n<br />\n<br
  />Location: Friendship Firehouse Museum\, 107 S. Alfred St.\n<br />Conta
 ct Phone: 703.746.4994\n<br />Fees: Free for Fathers and their families\n
 <br />Audience: Anyone may attend\n<br />Tags: Friendship Firehouse Museu
 m\, Museums\, Old &amp\; Historic Alexandria\, Old Town<br>\n<a href="htt
 p://www.friendshipfirehouse.net">http://www.friendshipfirehouse.net</a><b
 r>\n
X-COA-DTSTAMP:20150214T220706Z
END:VEVENT
END:VCALENDAR
